Workbook

Sheet Egyszerűsített Cash-flow
K1: ME130U sz. melléklet
A2: A vállalkozás Cash-flow táblája
A3: Kölcsönigénylő adatai | F3: Igényelt finanszírozás adatai
A4: Kölcsönigénylő rövid neve | F4: Összeg | L4: eFt
A5: Adószáma | F5: Kamat | I5: =+IFERROR(VLOOKUP(B8,termékek!$A$2:$B$17,2,FALSE),"") | L5: % | M5: =+I5/100 -> #VALUE!
A6: Székhelye | F6: Futamidő | L6: hónap | M6: =ROUNDUP(I6/12,0) -> 0
A7: Hitelprogram adatai | F7: Futamidő kezdő éve (év elejét feltételezve) | L7: év
A8: Hitelprogram neve | F8: Törlesztés kezdő éve (türelmi idő lejáratát követően, év elejét feltételezve) | L8: év
A9: Azonosító jele | F9: Futamidő záró éve (év végét feltételezve) | I9: =IF(($I$7+$M$6-1)>2000,($I$7+$M$6-1),"") | L9: év
F10: Meglévő amortizálódó hitelek adatai
F11: Összeg | L11: eFt
F12: Átlagos kamat | L12: % | M12: =+I12/100 -> 0
F13: Átlagos futamidő (hónap) | L13: hónap | M13: =+ROUNDUP(I13/12,0) -> 0
F14: Futamidő záró éve (év végét feltételezve) | H14: =IF(($B$23+$M$13-1)>2000,($B$23+$M$13-1),"") | I14: =+B23+M13-1 -> -1 | L14: év
F15: A vállalkozás működésére vonatkozó információk
F16: Bevételek összesen (futamidő kezdő évében) | L16: eFt
F17: Működési költségek összesen (futamidő kezdő évében) | L17: eFt
F18: Nyitó pénzeszközök összege (futamidő kezdő évében) | L18: eFt
F19: Befektetett eszközök éves átlagos értékcsökkenése | L19: eFt
F20: Átlagos adókulcs | L20: % | M20: =+I20/100 -> 0
A21: A jelölt mezők kitöltése kötelező!
A23: Év (adatok eFt-ban) | B23: =$I$7 -> 0 | C23: =B23+1 -> 1 | D23: =C23+1 -> 2 | E23: =D23+1 -> 3 | F23: =E23+1 -> 4 | G23: =F23+1 -> 5 | H23: =G23+1 -> 6 | I23: =H23+1 -> 7 | J23: =I23+1 -> 8 | ... U23: =T23+1 -> 19
A24: Igényelt finanszírozási összeg
A25: Kintlévőség év elején | B25: =IF(OR($I$4=0,$M$6=0,$I$7=0,$I$8=0),"-",$I$4) -> - | C25: =IF(OR($I$4=0,$M$6=0,$I$7=0,$I$8=0,B26=0,B26="-"),"-",B26) -> - | D25: =IF(OR($I$4=0,$M$6=0,$I$7=0,$I$8=0,C26=0,C26="-"),"-",C26) -> - | E25: =IF(OR($I$4=0,$M$6=0,$I$7=0,$I$8=0,D26=0,D26="-"),"-",D26) -> - | F25: =IF(OR($I$4=0,$M$6=0,$I$7=0,$I$8=0,E26=0,E26="-"),"-",E26) -> - | G25: =IF(OR($I$4=0,$M$6=0,$I$7=0,$I$8=0,F26=0,F26="-"),"-",F26) -> - | H25: =IF(OR($I$4=0,$M$6=0,$I$7=0,$I$8=0,G26=0,G26="-"),"-",G26) -> - | I25: =IF(OR($I$4=0,$M$6=0,$I$7=0,$I$8=0,H26=0,H26="-"),"-",H26) -> - | J25: =IF(OR($I$4=0,$M$6=0,$I$7=0,$I$8=0,I26=0,I26="-"),"-",I26) -> - | ... U25: =IF(OR($I$4=0,$M$6=0,$I$7=0,$I$8=0,T26=0,T26="-"),"-",T26) -> -
A26: Kintlévőség év végén | B26: =IF(OR($I$4=0,$M$6=0,$I$7=0,$I$8=0,B25="-",B29="-"),"-",B25-B29) -> - | C26: =IF(OR($I$4=0,$M$6=0,$I$7=0,$I$8=0,B26=0,B26="-",C25="-",C29="-"),"-",IF(C$23=$I$9,ROUND(C25-C29,0),C25-C29)) -> - | D26: =IF(OR($I$4=0,$M$6=0,$I$7=0,$I$8=0,C26=0,C26="-",D25="-",D29="-"),"-",IF(D$23=$I$9,ROUND(D25-D29,0),D25-D29)) -> - | E26: =IF(OR($I$4=0,$M$6=0,$I$7=0,$I$8=0,D26=0,D26="-",E25="-",E29="-"),"-",IF(E$23=$I$9,ROUND(E25-E29,0),E25-E29)) -> - | F26: =IF(OR($I$4=0,$M$6=0,$I$7=0,$I$8=0,E26=0,E26="-",F25="-",F29="-"),"-",IF(F$23=$I$9,ROUND(F25-F29,0),F25-F29)) -> - | G26: =IF(OR($I$4=0,$M$6=0,$I$7=0,$I$8=0,F26=0,F26="-",G25="-",G29="-"),"-",IF(G$23=$I$9,ROUND(G25-G29,0),G25-G29)) -> - | H26: =IF(OR($I$4=0,$M$6=0,$I$7=0,$I$8=0,G26=0,G26="-",H25="-",H29="-"),"-",IF(H$23=$I$9,ROUND(H25-H29,0),H25-H29)) -> - | I26: =IF(OR($I$4=0,$M$6=0,$I$7=0,$I$8=0,H26=0,H26="-",I25="-",I29="-"),"-",IF(I$23=$I$9,ROUND(I25-I29,0),I25-I29)) -> - | J26: =IF(OR($I$4=0,$M$6=0,$I$7=0,$I$8=0,I26=0,I26="-",J25="-",J29="-"),"-",IF(J$23=$I$9,ROUND(J25-J29,0),J25-J29)) -> - | ... U26: =IF(OR($I$4=0,$M$6=0,$I$7=0,$I$8=0,T26=0,T26="-",U25="-",U29="-"),"-",IF(U$23=$I$9,ROUND(U25-U29,0),U25-U29)) -> -
A27: Átlagos kintlévőség | B27: =IF(OR(B25="-",B26="-"),"-",(B26+B25)/2) -> - | C27: =IF(OR(C25="-",C26="-"),"-",(C26+C25)/2) -> - | D27: =IF(OR(D25="-",D26="-"),"-",(D26+D25)/2) -> - | E27: =IF(OR(E25="-",E26="-"),"-",(E26+E25)/2) -> - | F27: =IF(OR(F25="-",F26="-"),"-",(F26+F25)/2) -> - | G27: =IF(OR(G25="-",G26="-"),"-",(G26+G25)/2) -> - | H27: =IF(OR(H25="-",H26="-"),"-",(H26+H25)/2) -> - | I27: =IF(OR(I25="-",I26="-"),"-",(I26+I25)/2) -> - | ... U27: =IF(OR(U25="-",U26="-"),"-",(U26+U25)/2) -> -
A28: Fizetendő kamat | B28: =IF(B27="-","-",B27*$M$5) -> - | C28: =IF(C27="-","-",C27*$M$5) -> - | D28: =IF(D27="-","-",D27*$M$5) -> - | E28: =IF(E27="-","-",E27*$M$5) -> - | F28: =IF(F27="-","-",F27*$M$5) -> - | G28: =IF(G27="-","-",G27*$M$5) -> - | H28: =IF(H27="-","-",H27*$M$5) -> - | I28: =IF(I27="-","-",I27*$M$5) -> - | ... U28: =IF(U27="-","-",U27*$M$5) -> -
A29: Tőketörlesztés | B29: =IF(OR($I$4=0,$M$6=0,$I$7=0,$I$8=0),"-",IF(B23<$I$8,0,$I$4*1/($M$6-($I$8-$I$7)))) -> - | C29: =IF(OR($I$4=0,$M$6=0,$I$7=0,$I$8=0),"-",IF(C23<$I$8,0,IF(OR(B26=0,B26="-"),"-",$I$4*1/($M$6-($I$8-$I$7))))) -> - | D29: =IF(OR($I$4=0,$M$6=0,$I$7=0,$I$8=0),"-",IF(D23<$I$8,0,IF(OR(C26=0,C26="-"),"-",$I$4*1/($M$6-($I$8-$I$7))))) -> - | E29: =IF(OR($I$4=0,$M$6=0,$I$7=0,$I$8=0),"-",IF(E23<$I$8,0,IF(OR(D26=0,D26="-"),"-",$I$4*1/($M$6-($I$8-$I$7))))) -> - | F29: =IF(OR($I$4=0,$M$6=0,$I$7=0,$I$8=0),"-",IF(F23<$I$8,0,IF(OR(E26=0,E26="-"),"-",$I$4*1/($M$6-($I$8-$I$7))))) -> - | G29: =IF(OR($I$4=0,$M$6=0,$I$7=0,$I$8=0),"-",IF(G23<$I$8,0,IF(OR(F26=0,F26="-"),"-",$I$4*1/($M$6-($I$8-$I$7))))) -> - | H29: =IF(OR($I$4=0,$M$6=0,$I$7=0,$I$8=0),"-",IF(H23<$I$8,0,IF(OR(G26=0,G26="-"),"-",$I$4*1/($M$6-($I$8-$I$7))))) -> - | I29: =IF(OR($I$4=0,$M$6=0,$I$7=0,$I$8=0),"-",IF(I23<$I$8,0,IF(OR(H26=0,H26="-"),"-",$I$4*1/($M$6-($I$8-$I$7))))) -> - | J29: =IF(OR($I$4=0,$M$6=0,$I$7=0,$I$8=0),"-",IF(J23<$I$8,0,IF(OR(I26=0,I26="-"),"-",$I$4*1/($M$6-($I$8-$I$7))))) -> - | ... U29: =IF(OR($I$4=0,$M$6=0,$I$7=0,$I$8=0),"-",IF(U23<$I$8,0,IF(OR(T26=0,T26="-"),"-",$I$4*1/($M$6-($I$8-$I$7))))) -> -
A30: Éves adósságszolgálat | B30: =IF(OR(B28="-",B29="-"),"-",B28+B29) -> - | C30: =IF(OR(C28="-",C29="-"),"-",C28+C29) -> - | D30: =IF(OR(D28="-",D29="-"),"-",D28+D29) -> - | E30: =IF(OR(E28="-",E29="-"),"-",E28+E29) -> - | F30: =IF(OR(F28="-",F29="-"),"-",F28+F29) -> - | G30: =IF(OR(G28="-",G29="-"),"-",G28+G29) -> - | H30: =IF(OR(H28="-",H29="-"),"-",H28+H29) -> - | I30: =IF(OR(I28="-",I29="-"),"-",I28+I29) -> - | ... U30: =IF(OR(U28="-",U29="-"),"-",U28+U29) -> -
A31: Meglévő amortizálódó hitelek
A32: Kintlévőség év elején | B32: =IF(OR($I$11=0,$M$13=0,B26="-"),"-",$I$11) -> - | C32: =IF(OR($I$11=0,B33=0,B33="-",B26=0,B26="-"),"-",B33) -> - | D32: =IF(OR($I$11=0,C33=0,C33="-",C26=0,C26="-"),"-",C33) -> - | E32: =IF(OR($I$11=0,D33=0,D33="-",D26=0,D26="-"),"-",D33) -> - | F32: =IF(OR($I$11=0,E33=0,E33="-",E26=0,E26="-"),"-",E33) -> - | G32: =IF(OR($I$11=0,F33=0,F33="-",F26=0,F26="-"),"-",F33) -> - | H32: =IF(OR($I$11=0,G33=0,G33="-",G26=0,G26="-"),"-",G33) -> - | I32: =IF(OR($I$11=0,H33=0,H33="-",H26=0,H26="-"),"-",H33) -> - | J32: =IF(OR($I$11=0,I33=0,I33="-",I26=0,I26="-"),"-",I33) -> - | ... U32: =IF(OR($I$11=0,T33=0,T33="-",T26=0,T26="-"),"-",T33) -> -
A33: Kintlévőség év végén | B33: =IF(OR($I$11=0,$M$13=0,B26="-",B32="-",B36="-"),"-",B32-B36) -> - | C33: =IF(OR($I$11=0,$M$13=0,B33=0,B33="-",B26=0,B26="-",C32="-",C36="-"),"-",IF(C$23=$H$14,ROUND(C32-C36,0),C32-C36)) -> - | D33: =IF(OR($I$11=0,$M$13=0,C33=0,C33="-",C26=0,C26="-",D32="-",D36="-"),"-",IF(D$23=$H$14,ROUND(D32-D36,0),D32-D36)) -> - | E33: =IF(OR($I$11=0,$M$13=0,D33=0,D33="-",D26=0,D26="-",E32="-",E36="-"),"-",IF(E$23=$H$14,ROUND(E32-E36,0),E32-E36)) -> - | F33: =IF(OR($I$11=0,$M$13=0,E33=0,E33="-",E26=0,E26="-",F32="-",F36="-"),"-",IF(F$23=$H$14,ROUND(F32-F36,0),F32-F36)) -> - | G33: =IF(OR($I$11=0,$M$13=0,F33=0,F33="-",F26=0,F26="-",G32="-",G36="-"),"-",IF(G$23=$H$14,ROUND(G32-G36,0),G32-G36)) -> - | H33: =IF(OR($I$11=0,$M$13=0,G33=0,G33="-",G26=0,G26="-",H32="-",H36="-"),"-",IF(H$23=$H$14,ROUND(H32-H36,0),H32-H36)) -> - | I33: =IF(OR($I$11=0,$M$13=0,H33=0,H33="-",H26=0,H26="-",I32="-",I36="-"),"-",IF(I$23=$H$14,ROUND(I32-I36,0),I32-I36)) -> - | J33: =IF(OR($I$11=0,$M$13=0,I33=0,I33="-",I26=0,I26="-",J32="-",J36="-"),"-",IF(J$23=$H$14,ROUND(J32-J36,0),J32-J36)) -> - | ... U33: =IF(OR($I$11=0,$M$13=0,T33=0,T33="-",T26=0,T26="-",U32="-",U36="-"),"-",IF(U$23=$H$14,ROUND(U32-U36,0),U32-U36)) -> -
A34: Átlagos kintlévőség | B34: =IF(OR(B26="-",B32="-",B33="-"),"-",(B33+B32)/2) -> - | C34: =IF(OR(B26=0,B26="-",C32="-",C33="-"),"-",(C33+C32)/2) -> - | D34: =IF(OR(C26=0,C26="-",D32="-",D33="-"),"-",(D33+D32)/2) -> - | E34: =IF(OR(D26=0,D26="-",E32="-",E33="-"),"-",(E33+E32)/2) -> - | F34: =IF(OR(E26=0,E26="-",F32="-",F33="-"),"-",(F33+F32)/2) -> - | G34: =IF(OR(F26=0,F26="-",G32="-",G33="-"),"-",(G33+G32)/2) -> - | H34: =IF(OR(G26=0,G26="-",H32="-",H33="-"),"-",(H33+H32)/2) -> - | I34: =IF(OR(H26=0,H26="-",I32="-",I33="-"),"-",(I33+I32)/2) -> - | J34: =IF(OR(I26=0,I26="-",J32="-",J33="-"),"-",(J33+J32)/2) -> - | ... U34: =IF(OR(T26=0,T26="-",U32="-",U33="-"),"-",(U33+U32)/2) -> -
A35: Fizetendő kamat | B35: =IF(OR(B26="-",B34="-"),"-",B34*$M$12) -> - | C35: =IF(OR(B26=0,B26="-",C34="-"),"-",C34*$M$12) -> - | D35: =IF(OR(C26=0,C26="-",D34="-"),"-",D34*$M$12) -> - | E35: =IF(OR(D26=0,D26="-",E34="-"),"-",E34*$M$12) -> - | F35: =IF(OR(E26=0,E26="-",F34="-"),"-",F34*$M$12) -> - | G35: =IF(OR(F26=0,F26="-",G34="-"),"-",G34*$M$12) -> - | H35: =IF(OR(G26=0,G26="-",H34="-"),"-",H34*$M$12) -> - | I35: =IF(OR(H26=0,H26="-",I34="-"),"-",I34*$M$12) -> - | J35: =IF(OR(I26=0,I26="-",J34="-"),"-",J34*$M$12) -> - | ... U35: =IF(OR(T26=0,T26="-",U34="-"),"-",U34*$M$12) -> -
A36: Tőketörlesztés | B36: =IF(OR($M$13=0,$I$11=0,B26="-"),"-",$I$11*1/$M$13) -> - | C36: =IF(OR($I$11=0,$M$13=0,B33=0,B33="-",B26=0,B26="-"),"-",$I$11*1/$M$13) -> - | D36: =IF(OR($I$11=0,$M$13=0,C33=0,C33="-",C26=0,C26="-"),"-",$I$11*1/$M$13) -> - | E36: =IF(OR($I$11=0,$M$13=0,D33=0,D33="-",D26=0,D26="-"),"-",$I$11*1/$M$13) -> - | F36: =IF(OR($I$11=0,$M$13=0,E33=0,E33="-",E26=0,E26="-"),"-",$I$11*1/$M$13) -> - | G36: =IF(OR($I$11=0,$M$13=0,F33=0,F33="-",F26=0,F26="-"),"-",$I$11*1/$M$13) -> - | H36: =IF(OR($I$11=0,$M$13=0,G33=0,G33="-",G26=0,G26="-"),"-",$I$11*1/$M$13) -> - | I36: =IF(OR($I$11=0,$M$13=0,H33=0,H33="-",H26=0,H26="-"),"-",$I$11*1/$M$13) -> - | J36: =IF(OR($I$11=0,$M$13=0,I33=0,I33="-",I26=0,I26="-"),"-",$I$11*1/$M$13) -> - | ... U36: =IF(OR($I$11=0,$M$13=0,T33=0,T33="-",T26=0,T26="-"),"-",$I$11*1/$M$13) -> -
A37: Éves adósságszolgálat | B37: =IF(OR(B26="-",B35="-",B36="-"),"-",B35+B36) -> - | C37: =IF(OR(B26=0,B26="-",C35="-",C36="-"),"-",C35+C36) -> - | D37: =IF(OR(C26=0,C26="-",D35="-",D36="-"),"-",D35+D36) -> - | E37: =IF(OR(D26=0,D26="-",E35="-",E36="-"),"-",E35+E36) -> - | F37: =IF(OR(E26=0,E26="-",F35="-",F36="-"),"-",F35+F36) -> - | G37: =IF(OR(F26=0,F26="-",G35="-",G36="-"),"-",G35+G36) -> - | H37: =IF(OR(G26=0,G26="-",H35="-",H36="-"),"-",H35+H36) -> - | I37: =IF(OR(H26=0,H26="-",I35="-",I36="-"),"-",I35+I36) -> - | J37: =IF(OR(I26=0,I26="-",J35="-",J36="-"),"-",J35+J36) -> - | ... U37: =IF(OR(T26=0,T26="-",U35="-",U36="-"),"-",U35+U36) -> -
A38: Összesített éves adósságszolgálat | B38: =IF(AND(B30="-",B37="-"),"-",IF(OR(B30="-",B37="-"),IF(B30="-",B37,B30),B30+B37)) -> - | C38: =IF(AND(C30="-",C37="-"),"-",IF(OR(C30="-",C37="-"),IF(C30="-",C37,C30),C30+C37)) -> - | D38: =IF(AND(D30="-",D37="-"),"-",IF(OR(D30="-",D37="-"),IF(D30="-",D37,D30),D30+D37)) -> - | E38: =IF(AND(E30="-",E37="-"),"-",IF(OR(E30="-",E37="-"),IF(E30="-",E37,E30),E30+E37)) -> - | F38: =IF(AND(F30="-",F37="-"),"-",IF(OR(F30="-",F37="-"),IF(F30="-",F37,F30),F30+F37)) -> - | G38: =IF(AND(G30="-",G37="-"),"-",IF(OR(G30="-",G37="-"),IF(G30="-",G37,G30),G30+G37)) -> - | H38: =IF(AND(H30="-",H37="-"),"-",IF(OR(H30="-",H37="-"),IF(H30="-",H37,H30),H30+H37)) -> - | I38: =IF(AND(I30="-",I37="-"),"-",IF(OR(I30="-",I37="-"),IF(I30="-",I37,I30),I30+I37)) -> - | ... U38: =IF(AND(U30="-",U37="-"),"-",IF(OR(U30="-",U37="-"),IF(U30="-",U37,U30),U30+U37)) -> -
A40: Év (adatok eFt-ban) | B40: =$I$7 -> 0 | C40: =B40+1 -> 1 | D40: =C40+1 -> 2 | E40: =D40+1 -> 3 | F40: =E40+1 -> 4 | G40: =F40+1 -> 5 | H40: =G40+1 -> 6 | I40: =H40+1 -> 7 | J40: =I40+1 -> 8 | ... U40: =T40+1 -> 19
A41: Bevételek tervezett éves növekedése (%) | B41: - | M41: 0.03 | N41: 0.03 | O41: 0.03 | P41: 0.03 | Q41: 0.03 | R41: 0.03 | S41: 0.03 | T41: 0.03 | U41: 0.03
A42: Bevételek összesen | B42: =IF(OR($I$16=0,B26="-"),"-",$I$16) -> - | C42: =IF(OR($I$16=0,B26=0,B26="-"),"-",B42*(1+C41)) -> - | D42: =IF(OR($I$16=0,C26=0,C26="-"),"-",C42*(1+D41)) -> - | E42: =IF(OR($I$16=0,D26=0,D26="-"),"-",D42*(1+E41)) -> - | F42: =IF(OR($I$16=0,E26=0,E26="-"),"-",E42*(1+F41)) -> - | G42: =IF(OR($I$16=0,F26=0,F26="-"),"-",F42*(1+G41)) -> - | H42: =IF(OR($I$16=0,G26=0,G26="-"),"-",G42*(1+H41)) -> - | I42: =IF(OR($I$16=0,H26=0,H26="-"),"-",H42*(1+I41)) -> - | J42: =IF(OR($I$16=0,I26=0,I26="-"),"-",I42*(1+J41)) -> - | ... U42: =IF(OR($I$16=0,T26=0,T26="-"),"-",T42*(1+U41)) -> -
...

Sheet Kitöltési útmutató
A1: Kitöltési útmutató
A2: Technikai információk | B2: A táblázatban kiemelésre kerültek a kitöltendő mezők.
B3: A fehér háttérrel rendelkező cellák kitöltése korlátozott.
A4: Kitöltendő adatok | B4: Kölcsönigénylő adatai
B5: Kölcsönigénylő rövid neve | C5: A finanszírozást igénylő vállalkozás rövid neve
B6: Adószáma | C6: A kölcsönigénylő vállalkozás adószáma xxxxxxxx-x-xx formátumban
B7: Hitelprogram adatai
B8: Hitelprogram neve | C8: Legördülő listából kiválasztható
B9: Azonosító jele | C9: Legördülő listából kiválasztható
B10: Igényelt finanszírozás adatai
B11: Összeg | C11: A Kölcsönkérelemben igényelt finanszírozási összeg (Ft)
B12: Kamat | C12: A Kölcsönkérelemben igényelt kölcsön éves ügyleti kamatlába (%)
B13: Futamidő | C13: A Kölcsönkérelemben igényelt kölcsön futamideje (hónap)
B14: Futamidő kezdő éve (év elejét feltételezve) | C14: A Kölcsönkérelemben igényelt kölcsön futamidejének várható kezdete
B15: Törlesztés kezdő éve (év elejét feltételezve) | C15: A Kölcsönkérelemben igényelt kölcsön törlesztésének várható kezdete (türelmi időt is figyelembe véve)
B16: Meglévő amortizálódó hitelek adatai
B17: Összeg | C17: A Kölcsönkérelemben igényelt kölcsön futamideje alatt fennálló további - támogatott vagy nem támogatott - kölcsönök összege (Ft)
B18: Átlagos kamat | C18: A Kölcsönkérelemben igényelt kölcsön futamideje alatt fennálló további kölcsönök éves átlagos ügyleti kamatlába a fennálló kölcsönök súlyozott átlagában (%)
B19: Átlagos futamidő | C19: A Kölcsönkérelemben igényelt kölcsön futamideje alatt fennálló további kölcsönök átlagos futamideje a fennálló kölcsönök súlyozott átlagában (hónap)
B20: A vállalkozás működésére vonatkozó információk
B21: Bevételek összesen (futamidő kezdő évében) | C21: A vállalkozás összes bevételeinek várható összege a kölcsön futamidejének első évében (Ft)
B22: Működési költségek összesen (futamidő kezdő évében) | C22: A vállalkozás összes felmerülő működési költségeinek várható összege a kölcsön futamidejének első évében (Ft)
B23: Nyitó pénzkészlet (futamidő kezdő évében) | C23: A Kölcsönkérelemben igényelt kölcsön futamidejének első évében rendelkezésre álló pénzkészlet várható összege (Ft)
B24: Befektetett eszközök éves átlagos értékcsökkenése | C24: A vállalkozás befektetett eszközei értékcsökkenésének várható éves átlagos összege a Kölcsönkérelemben igényelt kölcsön futamideje alatt (Ft)
B25: Átlagos adókulcs | C25: A vállalkozás eredményét terhelő adó várható éves átlagos mértéke a Kölcsönkérelemben igényelt kölcsön futamideje alatt (%)
B26: A vállalkozás bevételeinek és költségeinek növekedési adatai
B27: Bevételek tervezett éves növekedése | C27: A vállalkozás bevételeinek várható éves növekedése a Kölcsönkérelemben igényelt kölcsön futamideje alatt (%)
B28: Működési költségek tervezett éves növekedése | C28: A vállalkozás összes felmerülő működési költségeinek várható éves növekedése a Kölcsönkérelemben igényelt kölcsön futamideje alatt (%)
A29: Szabályozási információk | B29: A cash-flow tábla a Kölcsönkérelemben szereplő Projekt pénzügyi életképességének megállapítására szolgál. Pénzügyileg életképes az a Projekt, amely esetében a becsült adósságszolgálati fedezeti mutató (DSCR) a törlesztési időszak minden évében nagyobb mint 110% (1,1). Abban az évben, ahol még nem áll fenn adósságszolgálati (kamatfizetés és/vagy tőketörlesztés) kötelezettség, ebben az esetben a DSCR mutató értéke 0 értéket felvehet.

Sheet termékek
A1: kód | B1: kamat | C1: kód
A2: KKV Technológia Plusz Hitelprogram ("B" forgóeszköz) | B2: 0 | C2: GINOP Plusz- 1.4.3/B-24

Sheet Egyszerűsített Cash-flow (Közv)
K1: ME130U sz. melléklet
A2: A vállalkozás Cash-flow táblája (Közvetítői)
A3: Kölcsönigénylő adatai | F3: Igényelt finanszírozás adatai
A4: Kölcsönigénylő rövid neve | B4: =+'Egyszerűsített Cash-flow'!$B$4:$D$4 -> 0 | F4: Összeg | I4: =+'Egyszerűsített Cash-flow'!I4:K4 -> 0 | L4: eFt
A5: Adószáma | B5: =+'Egyszerűsített Cash-flow'!$B$5:$D$5 -> 0 | F5: Kamat | I5: =+'Egyszerűsített Cash-flow'!I5:K5 | L5: % | M5: =+'Egyszerűsített Cash-flow'!M5 -> #VALUE!
A6: Hitelprogram adatai | F6: Futamidő | I6: =+'Egyszerűsített Cash-flow'!I6:K6 -> 0 | L6: hónap | M6: =ROUNDUP(I6/12,0) -> 0
A7: Hitelprogram neve | B7: =+'Egyszerűsített Cash-flow'!$B$8:$D$8 -> 0 | F7: Futamidő kezdő éve (év elejét feltételezve) | I7: =+'Egyszerűsített Cash-flow'!I7:K7 -> 0 | L7: év
A8: Azonosító jele | B8: =+'Egyszerűsített Cash-flow'!$B$9:$D$9 -> 0 | F8: Törlesztés kezdő éve (év elejét feltételezve) | I8: =+'Egyszerűsített Cash-flow'!I8:K8 -> 0 | L8: év
F9: Futamidő záró éve (év végét feltételezve) | I9: =IF(($I$7+$M$6-1)>2000,($I$7+$M$6-1),"") | L9: év
F10: Meglévő amortizálódó hitelek adatai
F11: Összeg | I11: =+'Egyszerűsített Cash-flow'!I11:K11 -> 0 | L11: eFt
F12: Átlagos kamat | I12: =+'Egyszerűsített Cash-flow'!I12:K12 -> 0 | L12: % | M12: =+'Egyszerűsített Cash-flow'!M12 -> 0
F13: Átlagos futamidő (hónap) | I13: =+'Egyszerűsített Cash-flow'!I13:K13 -> 0 | L13: hónap | M13: =+ROUNDUP(I13/12,0) -> 0
F14: Futamidő záró éve (év végét feltételezve) | H14: =IF(($B$22+$M$13-1)>2000,($B$22+$M$13-1),"") | I14: =+B22+M13-1 -> -1 | L14: év
F15: =+'Egyszerűsített Cash-flow'!F15:L15 -> A vállalkozás működésére vonatkozó információk
F16: Bevételek összesen (futamidő kezdő évében) | I16: =+'Egyszerűsített Cash-flow'!I16:K16 -> 0 | L16: eFt
F17: Működési költségek összesen (futamidő kezdő évében) | I17: =+'Egyszerűsített Cash-flow'!I17:K17 -> 0 | L17: eFt
F18: Nyitó pénzeszközök összege (futamidő kezdő évében) | I18: =+'Egyszerűsített Cash-flow'!I18:K18 -> 0 | L18: eFt
F19: Befektetett eszközök éves átlagos értékcsökkenése | I19: =+'Egyszerűsített Cash-flow'!I19:K19 -> 0 | L19: eFt
F20: Átlagos adókulcs | I20: =+'Egyszerűsített Cash-flow'!I20:K20 -> 0 | L20: % | M20: =+'Egyszerűsített Cash-flow'!M20 -> 0
A22: Év (adatok eFt-ban) | B22: =$I$7 -> 0 | C22: =B22+1 -> 1 | D22: =C22+1 -> 2 | E22: =D22+1 -> 3 | F22: =E22+1 -> 4 | G22: =F22+1 -> 5 | H22: =G22+1 -> 6 | I22: =H22+1 -> 7 | J22: =I22+1 -> 8 | ... U22: =T22+1 -> 19
A23: Igényelt finanszírozás
A24: Kintlévőség év elején | B24: =IF(OR($I$4=0,$M$6=0,$I$7=0,$I$8=0),"-",$I$4) -> - | C24: =IF(OR($I$4=0,$M$6=0,$I$7=0,$I$8=0,B25=0,B25="-"),"-",B25) -> - | D24: =IF(OR($I$4=0,$M$6=0,$I$7=0,$I$8=0,C25=0,C25="-"),"-",C25) -> - | E24: =IF(OR($I$4=0,$M$6=0,$I$7=0,$I$8=0,D25=0,D25="-"),"-",D25) -> - | F24: =IF(OR($I$4=0,$M$6=0,$I$7=0,$I$8=0,E25=0,E25="-"),"-",E25) -> - | G24: =IF(OR($I$4=0,$M$6=0,$I$7=0,$I$8=0,F25=0,F25="-"),"-",F25) -> - | H24: =IF(OR($I$4=0,$M$6=0,$I$7=0,$I$8=0,G25=0,G25="-"),"-",G25) -> - | I24: =IF(OR($I$4=0,$M$6=0,$I$7=0,$I$8=0,H25=0,H25="-"),"-",H25) -> - | J24: =IF(OR($I$4=0,$M$6=0,$I$7=0,$I$8=0,I25=0,I25="-"),"-",I25) -> - | ... U24: =IF(OR($I$4=0,$M$6=0,$I$7=0,$I$8=0,T25=0,T25="-"),"-",T25) -> -
A25: Kintlévőség év végén | B25: =IF(OR($I$4=0,$M$6=0,$I$7=0,$I$8=0,B24="-",B28="-"),"-",B24-B28) -> - | C25: =IF(OR($I$4=0,$M$6=0,$I$7=0,$I$8=0,B25=0,B25="-",C24="-",C28="-"),"-",IF(C$22=$I$9,ROUND(C24-C28,0),C24-C28)) -> - | D25: =IF(OR($I$4=0,$M$6=0,$I$7=0,$I$8=0,C25=0,C25="-",D24="-",D28="-"),"-",IF(D$22=$I$9,ROUND(D24-D28,0),D24-D28)) -> - | E25: =IF(OR($I$4=0,$M$6=0,$I$7=0,$I$8=0,D25=0,D25="-",E24="-",E28="-"),"-",IF(E$22=$I$9,ROUND(E24-E28,0),E24-E28)) -> - | F25: =IF(OR($I$4=0,$M$6=0,$I$7=0,$I$8=0,E25=0,E25="-",F24="-",F28="-"),"-",IF(F$22=$I$9,ROUND(F24-F28,0),F24-F28)) -> - | G25: =IF(OR($I$4=0,$M$6=0,$I$7=0,$I$8=0,F25=0,F25="-",G24="-",G28="-"),"-",IF(G$22=$I$9,ROUND(G24-G28,0),G24-G28)) -> - | H25: =IF(OR($I$4=0,$M$6=0,$I$7=0,$I$8=0,G25=0,G25="-",H24="-",H28="-"),"-",IF(H$22=$I$9,ROUND(H24-H28,0),H24-H28)) -> - | I25: =IF(OR($I$4=0,$M$6=0,$I$7=0,$I$8=0,H25=0,H25="-",I24="-",I28="-"),"-",IF(I$22=$I$9,ROUND(I24-I28,0),I24-I28)) -> - | J25: =IF(OR($I$4=0,$M$6=0,$I$7=0,$I$8=0,I25=0,I25="-",J24="-",J28="-"),"-",IF(J$22=$I$9,ROUND(J24-J28,0),J24-J28)) -> - | ... U25: =IF(OR($I$4=0,$M$6=0,$I$7=0,$I$8=0,T25=0,T25="-",U24="-",U28="-"),"-",IF(U$22=$I$9,ROUND(U24-U28,0),U24-U28)) -> -
A26: Átlagos kintlévőség | B26: =IF(OR(B24="-",B25="-"),"-",(B25+B24)/2) -> - | C26: =IF(OR(C24="-",C25="-"),"-",(C25+C24)/2) -> - | D26: =IF(OR(D24="-",D25="-"),"-",(D25+D24)/2) -> - | E26: =IF(OR(E24="-",E25="-"),"-",(E25+E24)/2) -> - | F26: =IF(OR(F24="-",F25="-"),"-",(F25+F24)/2) -> - | G26: =IF(OR(G24="-",G25="-"),"-",(G25+G24)/2) -> - | H26: =IF(OR(H24="-",H25="-"),"-",(H25+H24)/2) -> - | I26: =IF(OR(I24="-",I25="-"),"-",(I25+I24)/2) -> - | ... U26: =IF(OR(U24="-",U25="-"),"-",(U25+U24)/2) -> -
A27: Fizetendő kamat | B27: =IF(B26="-","-",B26*$M$5) -> - | C27: =IF(C26="-","-",C26*$M$5) -> - | D27: =IF(D26="-","-",D26*$M$5) -> - | E27: =IF(E26="-","-",E26*$M$5) -> - | F27: =IF(F26="-","-",F26*$M$5) -> - | G27: =IF(G26="-","-",G26*$M$5) -> - | H27: =IF(H26="-","-",H26*$M$5) -> - | I27: =IF(I26="-","-",I26*$M$5) -> - | ... U27: =IF(U26="-","-",U26*$M$5) -> -
A28: Tőketörlesztés | B28: =IF(OR($I$4=0,$M$6=0,$I$7=0,$I$8=0),"-",IF(B22<$I$8,0,$I$4*1/($M$6-($I$8-$I$7)))) -> - | C28: =IF(OR($I$4=0,$M$6=0,$I$7=0,$I$8=0),"-",IF(C22<$I$8,0,IF(OR(B25=0,B25="-"),"-",$I$4*1/($M$6-($I$8-$I$7))))) -> - | D28: =IF(OR($I$4=0,$M$6=0,$I$7=0,$I$8=0),"-",IF(D22<$I$8,0,IF(OR(C25=0,C25="-"),"-",$I$4*1/($M$6-($I$8-$I$7))))) -> - | E28: =IF(OR($I$4=0,$M$6=0,$I$7=0,$I$8=0),"-",IF(E22<$I$8,0,IF(OR(D25=0,D25="-"),"-",$I$4*1/($M$6-($I$8-$I$7))))) -> - | F28: =IF(OR($I$4=0,$M$6=0,$I$7=0,$I$8=0),"-",IF(F22<$I$8,0,IF(OR(E25=0,E25="-"),"-",$I$4*1/($M$6-($I$8-$I$7))))) -> - | G28: =IF(OR($I$4=0,$M$6=0,$I$7=0,$I$8=0),"-",IF(G22<$I$8,0,IF(OR(F25=0,F25="-"),"-",$I$4*1/($M$6-($I$8-$I$7))))) -> - | H28: =IF(OR($I$4=0,$M$6=0,$I$7=0,$I$8=0),"-",IF(H22<$I$8,0,IF(OR(G25=0,G25="-"),"-",$I$4*1/($M$6-($I$8-$I$7))))) -> - | I28: =IF(OR($I$4=0,$M$6=0,$I$7=0,$I$8=0),"-",IF(I22<$I$8,0,IF(OR(H25=0,H25="-"),"-",$I$4*1/($M$6-($I$8-$I$7))))) -> - | J28: =IF(OR($I$4=0,$M$6=0,$I$7=0,$I$8=0),"-",IF(J22<$I$8,0,IF(OR(I25=0,I25="-"),"-",$I$4*1/($M$6-($I$8-$I$7))))) -> - | ... U28: =IF(OR($I$4=0,$M$6=0,$I$7=0,$I$8=0),"-",IF(U22<$I$8,0,IF(OR(T25=0,T25="-"),"-",$I$4*1/($M$6-($I$8-$I$7))))) -> -
A29: Éves adósságszolgálat | B29: =IF(OR(B27="-",B28="-"),"-",B27+B28) -> - | C29: =IF(OR(C27="-",C28="-"),"-",C27+C28) -> - | D29: =IF(OR(D27="-",D28="-"),"-",D27+D28) -> - | E29: =IF(OR(E27="-",E28="-"),"-",E27+E28) -> - | F29: =IF(OR(F27="-",F28="-"),"-",F27+F28) -> - | G29: =IF(OR(G27="-",G28="-"),"-",G27+G28) -> - | H29: =IF(OR(H27="-",H28="-"),"-",H27+H28) -> - | I29: =IF(OR(I27="-",I28="-"),"-",I27+I28) -> - | ... U29: =IF(OR(U27="-",U28="-"),"-",U27+U28) -> -
A30: Meglévő amortizálódó hitelek
A31: Kintlévőség év elején | B31: =IF(OR($I$11=0,$M$13=0,B25="-"),"-",$I$11) -> - | C31: =IF(OR($I$11=0,B32=0,B32="-",B25=0,B25="-"),"-",B32) -> - | D31: =IF(OR($I$11=0,C32=0,C32="-",C25=0,C25="-"),"-",C32) -> - | E31: =IF(OR($I$11=0,D32=0,D32="-",D25=0,D25="-"),"-",D32) -> - | F31: =IF(OR($I$11=0,E32=0,E32="-",E25=0,E25="-"),"-",E32) -> - | G31: =IF(OR($I$11=0,F32=0,F32="-",F25=0,F25="-"),"-",F32) -> - | H31: =IF(OR($I$11=0,G32=0,G32="-",G25=0,G25="-"),"-",G32) -> - | I31: =IF(OR($I$11=0,H32=0,H32="-",H25=0,H25="-"),"-",H32) -> - | J31: =IF(OR($I$11=0,I32=0,I32="-",I25=0,I25="-"),"-",I32) -> - | ... U31: =IF(OR($I$11=0,T32=0,T32="-",T25=0,T25="-"),"-",T32) -> -
A32: Kintlévőség év végén | B32: =IF(OR($I$11=0,$M$13=0,B25="-",B31="-",B35="-"),"-",B31-B35) -> - | C32: =IF(OR($I$11=0,$M$13=0,B32=0,B32="-",B25=0,B25="-",C31="-",C35="-"),"-",IF(C$22=$H$14,ROUND(C31-C35,0),C31-C35)) -> - | D32: =IF(OR($I$11=0,$M$13=0,C32=0,C32="-",C25=0,C25="-",D31="-",D35="-"),"-",IF(D$22=$H$14,ROUND(D31-D35,0),D31-D35)) -> - | E32: =IF(OR($I$11=0,$M$13=0,D32=0,D32="-",D25=0,D25="-",E31="-",E35="-"),"-",IF(E$22=$H$14,ROUND(E31-E35,0),E31-E35)) -> - | F32: =IF(OR($I$11=0,$M$13=0,E32=0,E32="-",E25=0,E25="-",F31="-",F35="-"),"-",IF(F$22=$H$14,ROUND(F31-F35,0),F31-F35)) -> - | G32: =IF(OR($I$11=0,$M$13=0,F32=0,F32="-",F25=0,F25="-",G31="-",G35="-"),"-",IF(G$22=$H$14,ROUND(G31-G35,0),G31-G35)) -> - | H32: =IF(OR($I$11=0,$M$13=0,G32=0,G32="-",G25=0,G25="-",H31="-",H35="-"),"-",IF(H$22=$H$14,ROUND(H31-H35,0),H31-H35)) -> - | I32: =IF(OR($I$11=0,$M$13=0,H32=0,H32="-",H25=0,H25="-",I31="-",I35="-"),"-",IF(I$22=$H$14,ROUND(I31-I35,0),I31-I35)) -> - | J32: =IF(OR($I$11=0,$M$13=0,I32=0,I32="-",I25=0,I25="-",J31="-",J35="-"),"-",IF(J$22=$H$14,ROUND(J31-J35,0),J31-J35)) -> - | ... U32: =IF(OR($I$11=0,$M$13=0,T32=0,T32="-",T25=0,T25="-",U31="-",U35="-"),"-",IF(U$22=$H$14,ROUND(U31-U35,0),U31-U35)) -> -
A33: Átlagos kintlévőség | B33: =IF(OR(B25="-",B31="-",B32="-"),"-",(B32+B31)/2) -> - | C33: =IF(OR(B25=0,B25="-",C31="-",C32="-"),"-",(C32+C31)/2) -> - | D33: =IF(OR(C25=0,C25="-",D31="-",D32="-"),"-",(D32+D31)/2) -> - | E33: =IF(OR(D25=0,D25="-",E31="-",E32="-"),"-",(E32+E31)/2) -> - | F33: =IF(OR(E25=0,E25="-",F31="-",F32="-"),"-",(F32+F31)/2) -> - | G33: =IF(OR(F25=0,F25="-",G31="-",G32="-"),"-",(G32+G31)/2) -> - | H33: =IF(OR(G25=0,G25="-",H31="-",H32="-"),"-",(H32+H31)/2) -> - | I33: =IF(OR(H25=0,H25="-",I31="-",I32="-"),"-",(I32+I31)/2) -> - | J33: =IF(OR(I25=0,I25="-",J31="-",J32="-"),"-",(J32+J31)/2) -> - | ... U33: =IF(OR(T25=0,T25="-",U31="-",U32="-"),"-",(U32+U31)/2) -> -
A34: Fizetendő kamat | B34: =IF(OR(B25="-",B33="-"),"-",B33*$M$12) -> - | C34: =IF(OR(B25=0,B25="-",C33="-"),"-",C33*$M$12) -> - | D34: =IF(OR(C25=0,C25="-",D33="-"),"-",D33*$M$12) -> - | E34: =IF(OR(D25=0,D25="-",E33="-"),"-",E33*$M$12) -> - | F34: =IF(OR(E25=0,E25="-",F33="-"),"-",F33*$M$12) -> - | G34: =IF(OR(F25=0,F25="-",G33="-"),"-",G33*$M$12) -> - | H34: =IF(OR(G25=0,G25="-",H33="-"),"-",H33*$M$12) -> - | I34: =IF(OR(H25=0,H25="-",I33="-"),"-",I33*$M$12) -> - | J34: =IF(OR(I25=0,I25="-",J33="-"),"-",J33*$M$12) -> - | ... U34: =IF(OR(T25=0,T25="-",U33="-"),"-",U33*$M$12) -> -
A35: Tőketörlesztés | B35: =IF(OR($M$13=0,$I$11=0,B25="-"),"-",$I$11*1/$M$13) -> - | C35: =IF(OR($I$11=0,$M$13=0,B32=0,B32="-",B25=0,B25="-"),"-",$I$11*1/$M$13) -> - | D35: =IF(OR($I$11=0,$M$13=0,C32=0,C32="-",C25=0,C25="-"),"-",$I$11*1/$M$13) -> - | E35: =IF(OR($I$11=0,$M$13=0,D32=0,D32="-",D25=0,D25="-"),"-",$I$11*1/$M$13) -> - | F35: =IF(OR($I$11=0,$M$13=0,E32=0,E32="-",E25=0,E25="-"),"-",$I$11*1/$M$13) -> - | G35: =IF(OR($I$11=0,$M$13=0,F32=0,F32="-",F25=0,F25="-"),"-",$I$11*1/$M$13) -> - | H35: =IF(OR($I$11=0,$M$13=0,G32=0,G32="-",G25=0,G25="-"),"-",$I$11*1/$M$13) -> - | I35: =IF(OR($I$11=0,$M$13=0,H32=0,H32="-",H25=0,H25="-"),"-",$I$11*1/$M$13) -> - | J35: =IF(OR($I$11=0,$M$13=0,I32=0,I32="-",I25=0,I25="-"),"-",$I$11*1/$M$13) -> - | ... U35: =IF(OR($I$11=0,$M$13=0,T32=0,T32="-",T25=0,T25="-"),"-",$I$11*1/$M$13) -> -
A36: Éves adósságszolgálat | B36: =IF(OR(B25="-",B34="-",B35="-"),"-",B34+B35) -> - | C36: =IF(OR(B25=0,B25="-",C34="-",C35="-"),"-",C34+C35) -> - | D36: =IF(OR(C25=0,C25="-",D34="-",D35="-"),"-",D34+D35) -> - | E36: =IF(OR(D25=0,D25="-",E34="-",E35="-"),"-",E34+E35) -> - | F36: =IF(OR(E25=0,E25="-",F34="-",F35="-"),"-",F34+F35) -> - | G36: =IF(OR(F25=0,F25="-",G34="-",G35="-"),"-",G34+G35) -> - | H36: =IF(OR(G25=0,G25="-",H34="-",H35="-"),"-",H34+H35) -> - | I36: =IF(OR(H25=0,H25="-",I34="-",I35="-"),"-",I34+I35) -> - | J36: =IF(OR(I25=0,I25="-",J34="-",J35="-"),"-",J34+J35) -> - | ... U36: =IF(OR(T25=0,T25="-",U34="-",U35="-"),"-",U34+U35) -> -
A37: Összesített éves adósságszolgálat | B37: =IF(AND(B29="-",B36="-"),"-",IF(OR(B29="-",B36="-"),IF(B29="-",B36,B29),B29+B36)) -> - | C37: =IF(AND(C29="-",C36="-"),"-",IF(OR(C29="-",C36="-"),IF(C29="-",C36,C29),C29+C36)) -> - | D37: =IF(AND(D29="-",D36="-"),"-",IF(OR(D29="-",D36="-"),IF(D29="-",D36,D29),D29+D36)) -> - | E37: =IF(AND(E29="-",E36="-"),"-",IF(OR(E29="-",E36="-"),IF(E29="-",E36,E29),E29+E36)) -> - | F37: =IF(AND(F29="-",F36="-"),"-",IF(OR(F29="-",F36="-"),IF(F29="-",F36,F29),F29+F36)) -> - | G37: =IF(AND(G29="-",G36="-"),"-",IF(OR(G29="-",G36="-"),IF(G29="-",G36,G29),G29+G36)) -> - | H37: =IF(AND(H29="-",H36="-"),"-",IF(OR(H29="-",H36="-"),IF(H29="-",H36,H29),H29+H36)) -> - | I37: =IF(AND(I29="-",I36="-"),"-",IF(OR(I29="-",I36="-"),IF(I29="-",I36,I29),I29+I36)) -> - | ... U37: =IF(AND(U29="-",U36="-"),"-",IF(OR(U29="-",U36="-"),IF(U29="-",U36,U29),U29+U36)) -> -
A39: Év (adatok eFt-ban) | B39: =$I$7 -> 0 | C39: =B39+1 -> 1 | D39: =C39+1 -> 2 | E39: =D39+1 -> 3 | F39: =E39+1 -> 4 | G39: =F39+1 -> 5 | H39: =G39+1 -> 6 | I39: =H39+1 -> 7 | J39: =I39+1 -> 8 | ... U39: =T39+1 -> 19
A40: Bevételek tervezett éves növekedése | B40: - | C40: =+'Egyszerűsített Cash-flow'!C41 -> 0 | D40: =+'Egyszerűsített Cash-flow'!D41 -> 0 | E40: =+'Egyszerűsített Cash-flow'!E41 -> 0 | F40: =+'Egyszerűsített Cash-flow'!F41 -> 0 | G40: =+'Egyszerűsített Cash-flow'!G41 -> 0 | H40: =+'Egyszerűsített Cash-flow'!H41 -> 0 | I40: =+'Egyszerűsített Cash-flow'!I41 -> 0 | J40: =+'Egyszerűsített Cash-flow'!J41 -> 0 | ... U40: =+'Egyszerűsített Cash-flow'!U41 -> 0.03
A41: Bevételek összesen | B41: =IF(OR($I$16=0,B25="-"),"-",$I$16) -> - | C41: =IF(OR($I$16=0,B25=0,B25="-"),"-",B41*(1+C40)) -> - | D41: =IF(OR($I$16=0,C25=0,C25="-"),"-",C41*(1+D40)) -> - | E41: =IF(OR($I$16=0,D25=0,D25="-"),"-",D41*(1+E40)) -> - | F41: =IF(OR($I$16=0,E25=0,E25="-"),"-",E41*(1+F40)) -> - | G41: =IF(OR($I$16=0,F25=0,F25="-"),"-",F41*(1+G40)) -> - | H41: =IF(OR($I$16=0,G25=0,G25="-"),"-",G41*(1+H40)) -> - | I41: =IF(OR($I$16=0,H25=0,H25="-"),"-",H41*(1+I40)) -> - | J41: =IF(OR($I$16=0,I25=0,I25="-"),"-",I41*(1+J40)) -> - | ... U41: =IF(OR($I$16=0,T25=0,T25="-"),"-",T41*(1+U40)) -> -
A42: Működési költségek tervezett éves növekedése | B42: - | C42: =+'Egyszerűsített Cash-flow'!C43 -> 0 | D42: =+'Egyszerűsített Cash-flow'!D43 -> 0 | E42: =+'Egyszerűsített Cash-flow'!E43 -> 0 | F42: =+'Egyszerűsített Cash-flow'!F43 -> 0 | G42: =+'Egyszerűsített Cash-flow'!G43 -> 0 | H42: =+'Egyszerűsített Cash-flow'!H43 -> 0 | I42: =+'Egyszerűsített Cash-flow'!I43 -> 0 | J42: =+'Egyszerűsített Cash-flow'!J43 -> 0 | ... U42: =+'Egyszerűsített Cash-flow'!U43 -> 0.03
...
