Workbook

Sheet Egyszerűsített Cash-flow
K1: ME130U sz. melléklet
A2: A vállalkozás Cash-flow táblája
A3: Kölcsönigénylő adatai | F3: Igényelt finanszírozás adatai
A4: Kölcsönigénylő rövid neve | F4: Összeg | L4: eFt
A5: Adószáma | F5: Kamat | I5: =+IFERROR(VLOOKUP(B8,termékek!$A$2:$B$17,2,FALSE),"") | L5: % | M5: =+I5/100 -> #VALUE!
A6: Székhelye | F6: Futamidő | L6: hónap | M6: =ROUNDUP(I6/12,0) -> 0
A7: Hitelprogram adatai | F7: Futamidő kezdő éve (év elejét feltételezve) | L7: év
A8: Hitelprogram neve | F8: Törlesztés kezdő éve (türelmi idő lejáratát követően, év elejét feltételezve) | L8: év
A9: Azonosító jele | F9: Futamidő záró éve (év végét feltételezve) | I9: =IF(($I$7+$M$6-1)>2000,($I$7+$M$6-1),"") | L9: év
F10: Meglévő amortizálódó hitelek adatai
F11: Összeg | L11: eFt
F12: Átlagos kamat | L12: % | M12: =+I12/100 -> 0
F13: Átlagos futamidő (hónap) | L13: hónap | M13: =+ROUNDUP(I13/12,0) -> 0
F14: Futamidő záró éve (év végét feltételezve) | H14: =IF(($B$23+$M$13-1)>2000,($B$23+$M$13-1),"") | I14: =+B23+M13-1 -> -1 | L14: év
F15: A vállalkozás működésére vonatkozó információk
F16: Bevételek összesen (futamidő kezdő évében) | L16: eFt
F17: Működési költségek összesen (futamidő kezdő évében) | L17: eFt
F18: Nyitó pénzeszközök összege (futamidő kezdő évében) | L18: eFt
F19: Befektetett eszközök éves átlagos értékcsökkenése | L19: eFt
F20: Átlagos adókulcs | L20: % | M20: =+I20/100 -> 0
A21: A jelölt mezők kitöltése kötelező!
A23: Év (adatok eFt-ban) | B23: =$I$7 -> 0 | C23: =B23+1 -> 1 | D23: =C23+1 -> 2 | E23: =D23+1 -> 3 | F23: =E23+1 -> 4 | G23: =F23+1 -> 5 | H23: =G23+1 -> 6 | I23: =H23+1 -> 7 | J23: =I23+1 -> 8 | ... U23: =T23+1 -> 19
A24: Igényelt finanszírozási összeg
A25: Kintlévőség év elején | B25: =IF(OR($I$4=0,$M$6=0,$I$7=0,$I$8=0),"-",$I$4) -> - | C25: =IF(OR($I$4=0,$M$6=0,$I$7=0,$I$8=0,B26=0,B26="-"),"-",B26) -> - | D25: =IF(OR($I$4=0,$M$6=0,$I$7=0,$I$8=0,C26=0,C26="-"),"-",C26) -> - | E25: =IF(OR($I$4=0,$M$6=0,$I$7=0,$I$8=0,D26=0,D26="-"),"-",D26) -> - | F25: =IF(OR($I$4=0,$M$6=0,$I$7=0,$I$8=0,E26=0,E26="-"),"-",E26) -> - | G25: =IF(OR($I$4=0,$M$6=0,$I$7=0,$I$8=0,F26=0,F26="-"),"-",F26) -> - | H25: =IF(OR($I$4=0,$M$6=0,$I$7=0,$I$8=0,G26=0,G26="-"),"-",G26) -> - | I25: =IF(OR($I$4=0,$M$6=0,$I$7=0,$I$8=0,H26=0,H26="-"),"-",H26) -> - | J25: =IF(OR($I$4=0,$M$6=0,$I$7=0,$I$8=0,I26=0,I26="-"),"-",I26) -> - | ... U25: =IF(OR($I$4=0,$M$6=0,$I$7=0,$I$8=0,T26=0,T26="-"),"-",T26) -> -
A26: Kintlévőség év végén | B26: =IF(OR($I$4=0,$M$6=0,$I$7=0,$I$8=0,B25="-",B29="-"),"-",B25-B29) -> - | C26: =IF(OR($I$4=0,$M$6=0,$I$7=0,$I$8=0,B26=0,B26="-",C25="-",C29="-"),"-",IF(C$23=$I$9,ROUND(C25-C29,0),C25-C29)) -> - | D26: =IF(OR($I$4=0,$M$6=0,$I$7=0,$I$8=0,C26=0,C26="-",D25="-",D29="-"),"-",IF(D$23=$I$9,ROUND(D25-D29,0),D25-D29)) -> - | E26: =IF(OR($I$4=0,$M$6=0,$I$7=0,$I$8=0,D26=0,D26="-",E25="-",E29="-"),"-",IF(E$23=$I$9,ROUND(E25-E29,0),E25-E29)) -> - | F26: =IF(OR($I$4=0,$M$6=0,$I$7=0,$I$8=0,E26=0,E26="-",F25="-",F29="-"),"-",IF(F$23=$I$9,ROUND(F25-F29,0),F25-F29)) -> - | G26: =IF(OR($I$4=0,$M$6=0,$I$7=0,$I$8=0,F26=0,F26="-",G25="-",G29="-"),"-",IF(G$23=$I$9,ROUND(G25-G29,0),G25-G29)) -> - | H26: =IF(OR($I$4=0,$M$6=0,$I$7=0,$I$8=0,G26=0,G26="-",H25="-",H29="-"),"-",IF(H$23=$I$9,ROUND(H25-H29,0),H25-H29)) -> - | I26: =IF(OR($I$4=0,$M$6=0,$I$7=0,$I$8=0,H26=0,H26="-",I25="-",I29="-"),"-",IF(I$23=$I$9,ROUND(I25-I29,0),I25-I29)) -> - | J26: =IF(OR($I$4=0,$M$6=0,$I$7=0,$I$8=0,I26=0,I26="-",J25="-",J29="-"),"-",IF(J$23=$I$9,ROUND(J25-J29,0),J25-J29)) -> - | ... U26: =IF(OR($I$4=0,$M$6=0,$I$7=0,$I$8=0,T26=0,T26="-",U25="-",U29="-"),"-",IF(U$23=$I$9,ROUND(U25-U29,0),U25-U29)) -> -
A27: Átlagos kintlévőség | B27: =IF(OR(B25="-",B26="-"),"-",(B26+B25)/2) -> - | C27: =IF(OR(C25="-",C26="-"),"-",(C26+C25)/2) -> - | D27: =IF(OR(D25="-",D26="-"),"-",(D26+D25)/2) -> - | E27: =IF(OR(E25="-",E26="-"),"-",(E26+E25)/2) -> - | F27: =IF(OR(F25="-",F26="-"),"-",(F26+F25)/2) -> - | G27: =IF(OR(G25="-",G26="-"),"-",(G26+G25)/2) -> - | H27: =IF(OR(H25="-",H26="-"),"-",(H26+H25)/2) -> - | I27: =IF(OR(I25="-",I26="-"),"-",(I26+I25)/2) -> - | ... U27: =IF(OR(U25="-",U26="-"),"-",(U26+U25)/2) -> -
A28: Fizetendő kamat | B28: =IF(B27="-","-",B27*$M$5) -> - | C28: =IF(C27="-","-",C27*$M$5) -> - | D28: =IF(D27="-","-",D27*$M$5) -> - | E28: =IF(E27="-","-",E27*$M$5) -> - | F28: =IF(F27="-","-",F27*$M$5) -> - | G28: =IF(G27="-","-",G27*$M$5) -> - | H28: =IF(H27="-","-",H27*$M$5) -> - | I28: =IF(I27="-","-",I27*$M$5) -> - | ... U28: =IF(U27="-","-",U27*$M$5) -> -
A29: Tőketörlesztés | B29: =IF(OR($I$4=0,$M$6=0,$I$7=0,$I$8=0),"-",IF(B23<$I$8,0,$I$4*1/($M$6-($I$8-$I$7)))) -> - | C29: =IF(OR($I$4=0,$M$6=0,$I$7=0,$I$8=0),"-",IF(C23<$I$8,0,IF(OR(B26=0,B26="-"),"-",$I$4*1/($M$6-($I$8-$I$7))))) -> - | D29: =IF(OR($I$4=0,$M$6=0,$I$7=0,$I$8=0),"-",IF(D23<$I$8,0,IF(OR(C26=0,C26="-"),"-",$I$4*1/($M$6-($I$8-$I$7))))) -> - | E29: =IF(OR($I$4=0,$M$6=0,$I$7=0,$I$8=0),"-",IF(E23<$I$8,0,IF(OR(D26=0,D26="-"),"-",$I$4*1/($M$6-($I$8-$I$7))))) -> - | F29: =IF(OR($I$4=0,$M$6=0,$I$7=0,$I$8=0),"-",IF(F23<$I$8,0,IF(OR(E26=0,E26="-"),"-",$I$4*1/($M$6-($I$8-$I$7))))) -> - | G29: =IF(OR($I$4=0,$M$6=0,$I$7=0,$I$8=0),"-",IF(G23<$I$8,0,IF(OR(F26=0,F26="-"),"-",$I$4*1/($M$6-($I$8-$I$7))))) -> - | H29: =IF(OR($I$4=0,$M$6=0,$I$7=0,$I$8=0),"-",IF(H23<$I$8,0,IF(OR(G26=0,G26="-"),"-",$I$4*1/($M$6-($I$8-$I$7))))) -> - | I29: =IF(OR($I$4=0,$M$6=0,$I$7=0,$I$8=0),"-",IF(I23<$I$8,0,IF(OR(H26=0,H26="-"),"-",$I$4*1/($M$6-($I$8-$I$7))))) -> - | J29: =IF(OR($I$4=0,$M$6=0,$I$7=0,$I$8=0),"-",IF(J23<$I$8,0,IF(OR(I26=0,I26="-"),"-",$I$4*1/($M$6-($I$8-$I$7))))) -> - | ... U29: =IF(OR($I$4=0,$M$6=0,$I$7=0,$I$8=0),"-",IF(U23<$I$8,0,IF(OR(T26=0,T26="-"),"-",$I$4*1/($M$6-($I$8-$I$7))))) -> -
A30: Éves adósságszolgálat | B30: =IF(OR(B28="-",B29="-"),"-",B28+B29) -> - | C30: =IF(OR(C28="-",C29="-"),"-",C28+C29) -> - | D30: =IF(OR(D28="-",D29="-"),"-",D28+D29) -> - | E30: =IF(OR(E28="-",E29="-"),"-",E28+E29) -> - | F30: =IF(OR(F28="-",F29="-"),"-",F28+F29) -> - | G30: =IF(OR(G28="-",G29="-"),"-",G28+G29) -> - | H30: =IF(OR(H28="-",H29="-"),"-",H28+H29) -> - | I30: =IF(OR(I28="-",I29="-"),"-",I28+I29) -> - | ... U30: =IF(OR(U28="-",U29="-"),"-",U28+U29) -> -
A31: Meglévő amortizálódó hitelek
A32: Kintlévőség év elején | B32: =IF(OR($I$11=0,$M$13=0,B26="-"),"-",$I$11) -> - | C32: =IF(OR($I$11=0,B33=0,B33="-",B26=0,B26="-"),"-",B33) -> - | D32: =IF(OR($I$11=0,C33=0,C33="-",C26=0,C26="-"),"-",C33) -> - | E32: =IF(OR($I$11=0,D33=0,D33="-",D26=0,D26="-"),"-",D33) -> - | F32: =IF(OR($I$11=0,E33=0,E33="-",E26=0,E26="-"),"-",E33) -> - | G32: =IF(OR($I$11=0,F33=0,F33="-",F26=0,F26="-"),"-",F33) -> - | H32: =IF(OR($I$11=0,G33=0,G33="-",G26=0,G26="-"),"-",G33) -> - | I32: =IF(OR($I$11=0,H33=0,H33="-",H26=0,H26="-"),"-",H33) -> - | J32: =IF(OR($I$11=0,I33=0,I33="-",I26=0,I26="-"),"-",I33) -> - | ... U32: =IF(OR($I$11=0,T33=0,T33="-",T26=0,T26="-"),"-",T33) -> -
A33: Kintlévőség év végén | B33: =IF(OR($I$11=0,$M$13=0,B26="-",B32="-",B36="-"),"-",B32-B36) -> - | C33: =IF(OR($I$11=0,$M$13=0,B33=0,B33="-",B26=0,B26="-",C32="-",C36="-"),"-",IF(C$23=$H$14,ROUND(C32-C36,0),C32-C36)) -> - | D33: =IF(OR($I$11=0,$M$13=0,C33=0,C33="-",C26=0,C26="-",D32="-",D36="-"),"-",IF(D$23=$H$14,ROUND(D32-D36,0),D32-D36)) -> - | E33: =IF(OR($I$11=0,$M$13=0,D33=0,D33="-",D26=0,D26="-",E32="-",E36="-"),"-",IF(E$23=$H$14,ROUND(E32-E36,0),E32-E36)) -> - | F33: =IF(OR($I$11=0,$M$13=0,E33=0,E33="-",E26=0,E26="-",F32="-",F36="-"),"-",IF(F$23=$H$14,ROUND(F32-F36,0),F32-F36)) -> - | G33: =IF(OR($I$11=0,$M$13=0,F33=0,F33="-",F26=0,F26="-",G32="-",G36="-"),"-",IF(G$23=$H$14,ROUND(G32-G36,0),G32-G36)) -> - | H33: =IF(OR($I$11=0,$M$13=0,G33=0,G33="-",G26=0,G26="-",H32="-",H36="-"),"-",IF(H$23=$H$14,ROUND(H32-H36,0),H32-H36)) -> - | I33: =IF(OR($I$11=0,$M$13=0,H33=0,H33="-",H26=0,H26="-",I32="-",I36="-"),"-",IF(I$23=$H$14,ROUND(I32-I36,0),I32-I36)) -> - | J33: =IF(OR($I$11=0,$M$13=0,I33=0,I33="-",I26=0,I26="-",J32="-",J36="-"),"-",IF(J$23=$H$14,ROUND(J32-J36,0),J32-J36)) -> - | ... U33: =IF(OR($I$11=0,$M$13=0,T33=0,T33="-",T26=0,T26="-",U32="-",U36="-"),"-",IF(U$23=$H$14,ROUND(U32-U36,0),U32-U36)) -> -
A34: Átlagos kintlévőség | B34: =IF(OR(B26="-",B32="-",B33="-"),"-",(B33+B32)/2) -> - | C34: =IF(OR(B26=0,B26="-",C32="-",C33="-"),"-",(C33+C32)/2) -> - | D34: =IF(OR(C26=0,C26="-",D32="-",D33="-"),"-",(D33+D32)/2) -> - | E34: =IF(OR(D26=0,D26="-",E32="-",E33="-"),"-",(E33+E32)/2) -> - | F34: =IF(OR(E26=0,E26="-",F32="-",F33="-"),"-",(F33+F32)/2) -> - | G34: =IF(OR(F26=0,F26="-",G32="-",G33="-"),"-",(G33+G32)/2) -> - | H34: =IF(OR(G26=0,G26="-",H32="-",H33="-"),"-",(H33+H32)/2) -> - | I34: =IF(OR(H26=0,H26="-",I32="-",I33="-"),"-",(I33+I32)/2) -> - | J34: =IF(OR(I26=0,I26="-",J32="-",J33="-"),"-",(J33+J32)/2) -> - | ... U34: =IF(OR(T26=0,T26="-",U32="-",U33="-"),"-",(U33+U32)/2) -> -
A35: Fizetendő kamat | B35: =IF(OR(B26="-",B34="-"),"-",B34*$M$12) -> - | C35: =IF(OR(B26=0,B26="-",C34="-"),"-",C34*$M$12) -> - | D35: =IF(OR(C26=0,C26="-",D34="-"),"-",D34*$M$12) -> - | E35: =IF(OR(D26=0,D26="-",E34="-"),"-",E34*$M$12) -> - | F35: =IF(OR(E26=0,E26="-",F34="-"),"-",F34*$M$12) -> - | G35: =IF(OR(F26=0,F26="-",G34="-"),"-",G34*$M$12) -> - | H35: =IF(OR(G26=0,G26="-",H34="-"),"-",H34*$M$12) -> - | I35: =IF(OR(H26=0,H26="-",I34="-"),"-",I34*$M$12) -> - | J35: =IF(OR(I26=0,I26="-",J34="-"),"-",J34*$M$12) -> - | ... U35: =IF(OR(T26=0,T26="-",U34="-"),"-",U34*$M$12) -> -
A36: Tőketörlesztés | B36: =IF(OR($M$13=0,$I$11=0,B26="-"),"-",$I$11*1/$M$13) -> - | C36: =IF(OR($I$11=0,$M$13=0,B33=0,B33="-",B26=0,B26="-"),"-",$I$11*1/$M$13) -> - | D36: =IF(OR($I$11=0,$M$13=0,C33=0,C33="-",C26=0,C26="-"),"-",$I$11*1/$M$13) -> - | E36: =IF(OR($I$11=0,$M$13=0,D33=0,D33="-",D26=0,D26="-"),"-",$I$11*1/$M$13) -> - | F36: =IF(OR($I$11=0,$M$13=0,E33=0,E33="-",E26=0,E26="-"),"-",$I$11*1/$M$13) -> - | G36: =IF(OR($I$11=0,$M$13=0,F33=0,F33="-",F26=0,F26="-"),"-",$I$11*1/$M$13) -> - | H36: =IF(OR($I$11=0,$M$13=0,G33=0,G33="-",G26=0,G26="-"),"-",$I$11*1/$M$13) -> - | I36: =IF(OR($I$11=0,$M$13=0,H33=0,H33="-",H26=0,H26="-"),"-",$I$11*1/$M$13) -> - | J36: =IF(OR($I$11=0,$M$13=0,I33=0,I33="-",I26=0,I26="-"),"-",$I$11*1/$M$13) -> - | ... U36: =IF(OR($I$11=0,$M$13=0,T33=0,T33="-",T26=0,T26="-"),"-",$I$11*1/$M$13) -> -
A37: Éves adósságszolgálat | B37: =IF(OR(B26="-",B35="-",B36="-"),"-",B35+B36) -> - | C37: =IF(OR(B26=0,B26="-",C35="-",C36="-"),"-",C35+C36) -> - | D37: =IF(OR(C26=0,C26="-",D35="-",D36="-"),"-",D35+D36) -> - | E37: =IF(OR(D26=0,D26="-",E35="-",E36="-"),"-",E35+E36) -> - | F37: =IF(OR(E26=0,E26="-",F35="-",F36="-"),"-",F35+F36) -> - | G37: =IF(OR(F26=0,F26="-",G35="-",G36="-"),"-",G35+G36) -> - | H37: =IF(OR(G26=0,G26="-",H35="-",H36="-"),"-",H35+H36) -> - | I37: =IF(OR(H26=0,H26="-",I35="-",I36="-"),"-",I35+I36) -> - | J37: =IF(OR(I26=0,I26="-",J35="-",J36="-"),"-",J35+J36) -> - | ... U37: =IF(OR(T26=0,T26="-",U35="-",U36="-"),"-",U35+U36) -> -
A38: Összesített éves adósságszolgálat | B38: =IF(AND(B30="-",B37="-"),"-",IF(OR(B30="-",B37="-"),IF(B30="-",B37,B30),B30+B37)) -> - | C38: =IF(AND(C30="-",C37="-"),"-",IF(OR(C30="-",C37="-"),IF(C30="-",C37,C30),C30+C37)) -> - | D38: =IF(AND(D30="-",D37="-"),"-",IF(OR(D30="-",D37="-"),IF(D30="-",D37,D30),D30+D37)) -> - | E38: =IF(AND(E30="-",E37="-"),"-",IF(OR(E30="-",E37="-"),IF(E30="-",E37,E30),E30+E37)) -> - | F38: =IF(AND(F30="-",F37="-"),"-",IF(OR(F30="-",F37="-"),IF(F30="-",F37,F30),F30+F37)) -> - | G38: =IF(AND(G30="-",G37="-"),"-",IF(OR(G30="-",G37="-"),IF(G30="-",G37,G30),G30+G37)) -> - | H38: =IF(AND(H30="-",H37="-"),"-",IF(OR(H30="-",H37="-"),IF(H30="-",H37,H30),H30+H37)) -> - | I38: =IF(AND(I30="-",I37="-"),"-",IF(OR(I30="-",I37="-"),IF(I30="-",I37,I30),I30+I37)) -> - | ... U38: =IF(AND(U30="-",U37="-"),"-",IF(OR(U30="-",U37="-"),IF(U30="-",U37,U30),U30+U37)) -> -
A40: Év (adatok eFt-ban) | B40: =$I$7 -> 0 | C40: =B40+1 -> 1 | D40: =C40+1 -> 2 | E40: =D40+1 -> 3 | F40: =E40+1 -> 4 | G40: =F40+1 -> 5 | H40: =G40+1 -> 6 | I40: =H40+1 -> 7 | J40: =I40+1 -> 8 | ... U40: =T40+1 -> 19
A41: Bevételek tervezett éves növekedése (%) | B41: - | M41: 0.03 | N41: 0.03 | O41: 0.03 | P41: 0.03 | Q41: 0.03 | R41: 0.03 | S41: 0.03 | T41: 0.03 | U41: 0.03
A42: Bevételek összesen | B42: =IF(OR($I$16=0,B26="-"),"-",$I$16) -> - | C42: =IF(OR($I$16=0,B26=0,B26="-"),"-",B42*(1+C41)) -> - | D42: =IF(OR($I$16=0,C26=0,C26="-"),"-",C42*(1+D41)) -> - | E42: =IF(OR($I$16=0,D26=0,D26="-"),"-",D42*(1+E41)) -> - | F42: =IF(OR($I$16=0,E26=0,E26="-"),"-",E42*(1+F41)) -> - | G42: =IF(OR($I$16=0,F26=0,F26="-"),"-",F42*(1+G41)) -> - | H42: =IF(OR($I$16=0,G26=0,G26="-"),"-",G42*(1+H41)) -> - | I42: =IF(OR($I$16=0,H26=0,H26="-"),"-",H42*(1+I41)) -> - | J42: =IF(OR($I$16=0,I26=0,I26="-"),"-",I42*(1+J41)) -> - | ... U42: =IF(OR($I$16=0,T26=0,T26="-"),"-",T42*(1+U41)) -> -
A43: Működési költségek tervezett éves növekedése (%) | B43: - | M43: 0.03 | N43: 0.03 | O43: 0.03 | P43: 0.03 | Q43: 0.03 | R43: 0.03 | S43: 0.03 | T43: 0.03 | U43: 0.03
A44: Működési költség | B44: =IF(OR($I$17=0,B26="-"),"-",$I$17) -> - | C44: =IF(OR($I$17=0,B26=0,B26="-"),"-",B44*(1+C43)) -> - | D44: =IF(OR($I$17=0,C26=0,C26="-"),"-",C44*(1+D43)) -> - | E44: =IF(OR($I$17=0,D26=0,D26="-"),"-",D44*(1+E43)) -> - | F44: =IF(OR($I$17=0,E26=0,E26="-"),"-",E44*(1+F43)) -> - | G44: =IF(OR($I$17=0,F26=0,F26="-"),"-",F44*(1+G43)) -> - | H44: =IF(OR($I$17=0,G26=0,G26="-"),"-",G44*(1+H43)) -> - | I44: =IF(OR($I$17=0,H26=0,H26="-"),"-",H44*(1+I43)) -> - | J44: =IF(OR($I$17=0,I26=0,I26="-"),"-",I44*(1+J43)) -> - | ... U44: =IF(OR($I$17=0,T26=0,T26="-"),"-",T44*(1+U43)) -> -
A45: EBITDA | B45: =IF(OR(B26="-",B42="-",B44="-"),"-",B42-B44) -> - | C45: =IF(OR(B26=0,B26="-",C42="-",C44="-"),"-",C42-C44) -> - | D45: =IF(OR(C26=0,C26="-",D42="-",D44="-"),"-",D42-D44) -> - | E45: =IF(OR(D26=0,D26="-",E42="-",E44="-"),"-",E42-E44) -> - | F45: =IF(OR(E26=0,E26="-",F42="-",F44="-"),"-",F42-F44) -> - | G45: =IF(OR(F26=0,F26="-",G42="-",G44="-"),"-",G42-G44) -> - | H45: =IF(OR(G26=0,G26="-",H42="-",H44="-"),"-",H42-H44) -> - | I45: =IF(OR(H26=0,H26="-",I42="-",I44="-"),"-",I42-I44) -> - | J45: =IF(OR(I26=0,I26="-",J42="-",J44="-"),"-",J42-J44) -> - | ... U45: =IF(OR(T26=0,T26="-",U42="-",U44="-"),"-",U42-U44) -> -
A46: Értékcsökkenés | B46: =IF(B26="-","-",$I$19) -> - | C46: =IF(OR(B26=0,B26="-"),"-",$I$19) -> - | D46: =IF(OR(C26=0,C26="-"),"-",$I$19) -> - | E46: =IF(OR(D26=0,D26="-"),"-",$I$19) -> - | F46: =IF(OR(E26=0,E26="-"),"-",$I$19) -> - | G46: =IF(OR(F26=0,F26="-"),"-",$I$19) -> - | H46: =IF(OR(G26=0,G26="-"),"-",$I$19) -> - | I46: =IF(OR(H26=0,H26="-"),"-",$I$19) -> - | J46: =IF(OR(I26=0,I26="-"),"-",$I$19) -> - | ... U46: =IF(OR(T26=0,T26="-"),"-",$I$19) -> -
A47: Fizetendő kamat | B47: =IF(AND(B28="-",B35="-"),"-",IF(OR(B28="-",B35="-"),IF(B28="-",B35,B28),B28+B35)) -> - | C47: =IF(AND(C28="-",C35="-"),"-",IF(OR(C28="-",C35="-"),IF(C28="-",C35,C28),C28+C35)) -> - | D47: =IF(AND(D28="-",D35="-"),"-",IF(OR(D28="-",D35="-"),IF(D28="-",D35,D28),D28+D35)) -> - | E47: =IF(AND(E28="-",E35="-"),"-",IF(OR(E28="-",E35="-"),IF(E28="-",E35,E28),E28+E35)) -> - | F47: =IF(AND(F28="-",F35="-"),"-",IF(OR(F28="-",F35="-"),IF(F28="-",F35,F28),F28+F35)) -> - | G47: =IF(AND(G28="-",G35="-"),"-",IF(OR(G28="-",G35="-"),IF(G28="-",G35,G28),G28+G35)) -> - | H47: =IF(AND(H28="-",H35="-"),"-",IF(OR(H28="-",H35="-"),IF(H28="-",H35,H28),H28+H35)) -> - | I47: =IF(AND(I28="-",I35="-"),"-",IF(OR(I28="-",I35="-"),IF(I28="-",I35,I28),I28+I35)) -> - | ... U47: =IF(AND(U28="-",U35="-"),"-",IF(OR(U28="-",U35="-"),IF(U28="-",U35,U28),U28+U35)) -> -
A48: Adózás előtti eredmény | B48: =IF(OR(B26="-",B42="-",B44="-",B46="-",B47="-"),"-",B42-B44-B46-B47) -> - | C48: =IF(OR(B26=0,B26="-",C42="-",C44="-",C46="-",C47="-"),"-",C42-C44-C46-C47) -> - | D48: =IF(OR(C26=0,C26="-",D42="-",D44="-",D46="-",D47="-"),"-",D42-D44-D46-D47) -> - | E48: =IF(OR(D26=0,D26="-",E42="-",E44="-",E46="-",E47="-"),"-",E42-E44-E46-E47) -> - | F48: =IF(OR(E26=0,E26="-",F42="-",F44="-",F46="-",F47="-"),"-",F42-F44-F46-F47) -> - | G48: =IF(OR(F26=0,F26="-",G42="-",G44="-",G46="-",G47="-"),"-",G42-G44-G46-G47) -> - | H48: =IF(OR(G26=0,G26="-",H42="-",H44="-",H46="-",H47="-"),"-",H42-H44-H46-H47) -> - | I48: =IF(OR(H26=0,H26="-",I42="-",I44="-",I46="-",I47="-"),"-",I42-I44-I46-I47) -> - | J48: =IF(OR(I26=0,I26="-",J42="-",J44="-",J46="-",J47="-"),"-",J42-J44-J46-J47) -> - | ... U48: =IF(OR(T26=0,T26="-",U42="-",U44="-",U46="-",U47="-"),"-",U42-U44-U46-U47) -> -
A49: Adó | B49: =IF(OR(B26="-",B48="-"),"-",B48*$M$20) -> - | C49: =IF(OR(B26=0,B26="-",C48="-"),"-",C48*$M$20) -> - | D49: =IF(OR(C26=0,C26="-",D48="-"),"-",D48*$M$20) -> - | E49: =IF(OR(D26=0,D26="-",E48="-"),"-",E48*$M$20) -> - | F49: =IF(OR(E26=0,E26="-",F48="-"),"-",F48*$M$20) -> - | G49: =IF(OR(F26=0,F26="-",G48="-"),"-",G48*$M$20) -> - | H49: =IF(OR(G26=0,G26="-",H48="-"),"-",H48*$M$20) -> - | I49: =IF(OR(H26=0,H26="-",I48="-"),"-",I48*$M$20) -> - | J49: =IF(OR(I26=0,I26="-",J48="-"),"-",J48*$M$20) -> - | ... U49: =IF(OR(T26=0,T26="-",U48="-"),"-",U48*$M$20) -> -
A50: Adózás utáni eredmény | B50: =IF(OR(B26="-",B48="-",B49="-"),"-",B48-B49) -> - | C50: =IF(OR(B26=0,B26="-",C48="-",C49="-"),"-",C48-C49) -> - | D50: =IF(OR(C26=0,C26="-",D48="-",D49="-"),"-",D48-D49) -> - | E50: =IF(OR(D26=0,D26="-",E48="-",E49="-"),"-",E48-E49) -> - | F50: =IF(OR(E26=0,E26="-",F48="-",F49="-"),"-",F48-F49) -> - | G50: =IF(OR(F26=0,F26="-",G48="-",G49="-"),"-",G48-G49) -> - | H50: =IF(OR(G26=0,G26="-",H48="-",H49="-"),"-",H48-H49) -> - | I50: =IF(OR(H26=0,H26="-",I48="-",I49="-"),"-",I48-I49) -> - | J50: =IF(OR(I26=0,I26="-",J48="-",J49="-"),"-",J48-J49) -> - | ... U50: =IF(OR(T26=0,T26="-",U48="-",U49="-"),"-",U48-U49) -> -
A51: Törlesztésre rendelkezésre álló CF | B51: =IF(OR(B26="-",B46="-",B47="-",B50="-"),"-",B50+B46+B47) -> - | C51: =IF(OR(B26=0,B26="-",C46="-",C47="-",C50="-"),"-",C50+C46+C47) -> - | D51: =IF(OR(C26=0,C26="-",D46="-",D47="-",D50="-"),"-",D50+D46+D47) -> - | E51: =IF(OR(D26=0,D26="-",E46="-",E47="-",E50="-"),"-",E50+E46+E47) -> - | F51: =IF(OR(E26=0,E26="-",F46="-",F47="-",F50="-"),"-",F50+F46+F47) -> - | G51: =IF(OR(F26=0,F26="-",G46="-",G47="-",G50="-"),"-",G50+G46+G47) -> - | H51: =IF(OR(G26=0,G26="-",H46="-",H47="-",H50="-"),"-",H50+H46+H47) -> - | I51: =IF(OR(H26=0,H26="-",I46="-",I47="-",I50="-"),"-",I50+I46+I47) -> - | J51: =IF(OR(I26=0,I26="-",J46="-",J47="-",J50="-"),"-",J50+J46+J47) -> - | ... U51: =IF(OR(T26=0,T26="-",U46="-",U47="-",U50="-"),"-",U50+U46+U47) -> -
A52: Összesített éves adósságszolgálat | B52: =B38 -> - | C52: =C38 -> - | D52: =D38 -> - | E52: =E38 -> - | F52: =F38 -> - | G52: =G38 -> - | H52: =H38 -> - | I52: =I38 -> - | ... U52: =U38 -> -
A53: Szabad CF törlesztés után | B53: =IF(OR(B26="-",B51="-",B52="-"),"-",B51-B52) -> - | C53: =IF(OR(B26=0,B26="-",C51="-",C52="-"),"-",C51-C52) -> - | D53: =IF(OR(C26=0,C26="-",D51="-",D52="-"),"-",D51-D52) -> - | E53: =IF(OR(D26=0,D26="-",E51="-",E52="-"),"-",E51-E52) -> - | F53: =IF(OR(E26=0,E26="-",F51="-",F52="-"),"-",F51-F52) -> - | G53: =IF(OR(F26=0,F26="-",G51="-",G52="-"),"-",G51-G52) -> - | H53: =IF(OR(G26=0,G26="-",H51="-",H52="-"),"-",H51-H52) -> - | I53: =IF(OR(H26=0,H26="-",I51="-",I52="-"),"-",I51-I52) -> - | J53: =IF(OR(I26=0,I26="-",J51="-",J52="-"),"-",J51-J52) -> - | ... U53: =IF(OR(T26=0,T26="-",U51="-",U52="-"),"-",U51-U52) -> -
A54: Kumulált szabad CF | B54: =IF(OR($I$18="-",B26="-",B53="-"),"-",$I$18+B53) -> - | C54: =IF(OR(B26=0,B26="-",B54="-",C53="-"),"-",B54+C53) -> - | D54: =IF(OR(C26=0,C26="-",C54="-",D53="-"),"-",C54+D53) -> - | E54: =IF(OR(D26=0,D26="-",D54="-",E53="-"),"-",D54+E53) -> - | F54: =IF(OR(E26=0,E26="-",E54="-",F53="-"),"-",E54+F53) -> - | G54: =IF(OR(F26=0,F26="-",F54="-",G53="-"),"-",F54+G53) -> - | H54: =IF(OR(G26=0,G26="-",G54="-",H53="-"),"-",G54+H53) -> - | I54: =IF(OR(H26=0,H26="-",H54="-",I53="-"),"-",H54+I53) -> - | J54: =IF(OR(I26=0,I26="-",I54="-",J53="-"),"-",I54+J53) -> - | ... U54: =IF(OR(T26=0,T26="-",T54="-",U53="-"),"-",T54+U53) -> -
A57: DSCR | B57: =IF(OR(B26="-",B51="-",B52="-"),"-",B51/B52) -> - | C57: =IF(OR(B26=0,B26="-",C51="-",C52="-"),"-",C51/C52) -> - | D57: =IF(OR(C26=0,C26="-",D51="-",D52="-"),"-",D51/D52) -> - | E57: =IF(OR(D26=0,D26="-",E51="-",E52="-"),"-",E51/E52) -> - | F57: =IF(OR(E26=0,E26="-",F51="-",F52="-"),"-",F51/F52) -> - | G57: =IF(OR(F26=0,F26="-",G51="-",G52="-"),"-",G51/G52) -> - | H57: =IF(OR(G26=0,G26="-",H51="-",H52="-"),"-",H51/H52) -> - | I57: =IF(OR(H26=0,H26="-",I51="-",I52="-"),"-",I51/I52) -> - | J57: =IF(OR(I26=0,I26="-",J51="-",J52="-"),"-",J51/J52) -> - | ... U57: =IF(OR(T26=0,T26="-",U51="-",U52="-"),"-",U51/U52) -> -
A58: Kumulált DSCR | B58: =IF(OR($I$18="-",B26="-",B51="-",B52="-"),"-",($I$18+B51)/B52) -> - | C58: =IF(OR(B26=0,B26="-",C51="-",C52="-",B54="-"),"-",(C51+B54)/C52) -> - | D58: =IF(OR(C26=0,C26="-",D51="-",D52="-",C54="-"),"-",(D51+C54)/D52) -> - | E58: =IF(OR(D26=0,D26="-",E51="-",E52="-",D54="-"),"-",(E51+D54)/E52) -> - | F58: =IF(OR(E26=0,E26="-",F51="-",F52="-",E54="-"),"-",(F51+E54)/F52) -> - | G58: =IF(OR(F26=0,F26="-",G51="-",G52="-",F54="-"),"-",(G51+F54)/G52) -> - | H58: =IF(OR(G26=0,G26="-",H51="-",H52="-",G54="-"),"-",(H51+G54)/H52) -> - | I58: =IF(OR(H26=0,H26="-",I51="-",I52="-",H54="-"),"-",(I51+H54)/I52) -> - | J58: =IF(OR(I26=0,I26="-",J51="-",J52="-",I54="-"),"-",(J51+I54)/J52) -> - | ... U58: =IF(OR(T26=0,T26="-",U51="-",U52="-",T54="-"),"-",(U51+T54)/U52) -> -
A61: Kelt:
I62: Kölcsönigénylő (cégszerű) aláírása

Sheet Kitöltési útmutató
A1: Kitöltési útmutató
A2: Technikai információk | B2: A táblázatban kiemelésre kerültek a kitöltendő mezők.
B3: A fehér háttérrel rendelkező cellák kitöltése korlátozott.
A4: Kitöltendő adatok | B4: Kölcsönigénylő adatai
B5: Kölcsönigénylő rövid neve | C5: A finanszírozást igénylő vállalkozás rövid neve
B6: Adószáma | C6: A kölcsönigénylő vállalkozás adószáma xxxxxxxx-x-xx formátumban
B7: Hitelprogram adatai
B8: Hitelprogram neve | C8: Legördülő listából kiválasztható
B9: Azonosító jele | C9: Legördülő listából kiválasztható
B10: Igényelt finanszírozás adatai
B11: Összeg | C11: A Kölcsönkérelemben igényelt finanszírozási összeg (Ft)
B12: Kamat | C12: A Kölcsönkérelemben igényelt kölcsön éves ügyleti kamatlába (%)
B13: Futamidő | C13: A Kölcsönkérelemben igényelt kölcsön futamideje (hónap)
B14: Futamidő kezdő éve (év elejét feltételezve) | C14: A Kölcsönkérelemben igényelt kölcsön futamidejének várható kezdete
B15: Törlesztés kezdő éve (év elejét feltételezve) | C15: A Kölcsönkérelemben igényelt kölcsön törlesztésének várható kezdete (türelmi időt is figyelembe véve)
B16: Meglévő amortizálódó hitelek adatai
B17: Összeg | C17: A Kölcsönkérelemben igényelt kölcsön futamideje alatt fennálló további - támogatott vagy nem támogatott - kölcsönök összege (Ft)
B18: Átlagos kamat | C18: A Kölcsönkérelemben igényelt kölcsön futamideje alatt fennálló további kölcsönök éves átlagos ügyleti kamatlába a fennálló kölcsönök súlyozott átlagában (%)
B19: Átlagos futamidő | C19: A Kölcsönkérelemben igényelt kölcsön futamideje alatt fennálló további kölcsönök átlagos futamideje a fennálló kölcsönök súlyozott átlagában (hónap)
B20: A vállalkozás működésére vonatkozó információk
B21: Bevételek összesen (futamidő kezdő évében) | C21: A vállalkozás összes bevételeinek várható összege a kölcsön futamidejének első évében (Ft)
B22: Működési költségek összesen (futamidő kezdő évében) | C22: A vállalkozás összes felmerülő működési költségeinek várható összege a kölcsön futamidejének első évében (Ft)
B23: Nyitó pénzkészlet (futamidő kezdő évében) | C23: A Kölcsönkérelemben igényelt kölcsön futamidejének első évében rendelkezésre álló pénzkészlet várható összege (Ft)
B24: Befektetett eszközök éves átlagos értékcsökkenése | C24: A vállalkozás befektetett eszközei értékcsökkenésének várható éves átlagos összege a Kölcsönkérelemben igényelt kölcsön futamideje alatt (Ft)
B25: Átlagos adókulcs | C25: A vállalkozás eredményét terhelő adó várható éves átlagos mértéke a Kölcsönkérelemben igényelt kölcsön futamideje alatt (%)
B26: A vállalkozás bevételeinek és költségeinek növekedési adatai
B27: Bevételek tervezett éves növekedése | C27: A vállalkozás bevételeinek várható éves növekedése a Kölcsönkérelemben igényelt kölcsön futamideje alatt (%)
B28: Működési költségek tervezett éves növekedése | C28: A vállalkozás összes felmerülő működési költségeinek várható éves növekedése a Kölcsönkérelemben igényelt kölcsön futamideje alatt (%)
A29: Szabályozási információk | B29: A cash-flow tábla a Kölcsönkérelemben szereplő Projekt pénzügyi életképességének megállapítására szolgál. Pénzügyileg életképes az a Projekt, amely esetében a becsült adósságszolgálati fedezeti mutató (DSCR) a törlesztési időszak minden évében nagyobb mint 110% (1,1). Abban az évben, ahol még nem áll fenn adósságszolgálati (kamatfizetés és/vagy tőketörlesztés) kötelezettség, ebben az esetben a DSCR mutató értéke 0 értéket felvehet.

Sheet termékek
A1: kód | B1: kamat | C1: kód
A2: KKV Technológia Plusz Hitelprogram ("B" forgóeszköz) | B2: 0 | C2: GINOP Plusz- 1.4.3/B-24

Sheet Egyszerűsített Cash-flow (Közv)
K1: ME130U sz. melléklet
A2: A vállalkozás Cash-flow táblája (Közvetítői)
A3: Kölcsönigénylő adatai | F3: Igényelt finanszírozás adatai
A4: Kölcsönigénylő rövid neve | B4: =+'Egyszerűsített Cash-flow'!$B$4:$D$4 -> 0 | F4: Összeg | I4: =+'Egyszerűsített Cash-flow'!I4:K4 -> 0 | L4: eFt
A5: Adószáma | B5: =+'Egyszerűsített Cash-flow'!$B$5:$D$5 -> 0 | F5: Kamat | I5: =+'Egyszerűsített Cash-flow'!I5:K5 | L5: % | M5: =+'Egyszerűsített Cash-flow'!M5 -> #VALUE!
A6: Hitelprogram adatai | F6: Futamidő | I6: =+'Egyszerűsített Cash-flow'!I6:K6 -> 0 | L6: hónap | M6: =ROUNDUP(I6/12,0) -> 0
A7: Hitelprogram neve | B7: =+'Egyszerűsített Cash-flow'!$B$8:$D$8 -> 0 | F7: Futamidő kezdő éve (év elejét feltételezve) | I7: =+'Egyszerűsített Cash-flow'!I7:K7 -> 0 | L7: év
A8: Azonosító jele | B8: =+'Egyszerűsített Cash-flow'!$B$9:$D$9 -> 0 | F8: Törlesztés kezdő éve (év elejét feltételezve) | I8: =+'Egyszerűsített Cash-flow'!I8:K8 -> 0 | L8: év
F9: Futamidő záró éve (év végét feltételezve) | I9: =IF(($I$7+$M$6-1)>2000,($I$7+$M$6-1),"") | L9: év
F10: Meglévő amortizálódó hitelek adatai
F11: Összeg | I11: =+'Egyszerűsített Cash-flow'!I11:K11 -> 0 | L11: eFt
F12: Átlagos kamat | I12: =+'Egyszerűsített Cash-flow'!I12:K12 -> 0 | L12: % | M12: =+'Egyszerűsített Cash-flow'!M12 -> 0
F13: Átlagos futamidő (hónap) | I13: =+'Egyszerűsített Cash-flow'!I13:K13 -> 0 | L13: hónap | M13: =+ROUNDUP(I13/12,0) -> 0
F14: Futamidő záró éve (év végét feltételezve) | H14: =IF(($B$22+$M$13-1)>2000,($B$22+$M$13-1),"") | I14: =+B22+M13-1 -> -1 | L14: év
F15: =+'Egyszerűsített Cash-flow'!F15:L15 -> A vállalkozás működésére vonatkozó információk
F16: Bevételek összesen (futamidő kezdő évében) | I16: =+'Egyszerűsített Cash-flow'!I16:K16 -> 0 | L16: eFt
F17: Működési költségek összesen (futamidő kezdő évében) | I17: =+'Egyszerűsített Cash-flow'!I17:K17 -> 0 | L17: eFt
F18: Nyitó pénzeszközök összege (futamidő kezdő évében) | I18: =+'Egyszerűsített Cash-flow'!I18:K18 -> 0 | L18: eFt
F19: Befektetett eszközök éves átlagos értékcsökkenése | I19: =+'Egyszerűsített Cash-flow'!I19:K19 -> 0 | L19: eFt
F20: Átlagos adókulcs | I20: =+'Egyszerűsített Cash-flow'!I20:K20 -> 0 | L20: % | M20: =+'Egyszerűsített Cash-flow'!M20 -> 0
A22: Év (adatok eFt-ban) | B22: =$I$7 -> 0 | C22: =B22+1 -> 1 | D22: =C22+1 -> 2 | E22: =D22+1 -> 3 | F22: =E22+1 -> 4 | G22: =F22+1 -> 5 | H22: =G22+1 -> 6 | I22: =H22+1 -> 7 | J22: =I22+1 -> 8 | ... U22: =T22+1 -> 19
A23: Igényelt finanszírozás
A24: Kintlévőség év elején | B24: =IF(OR($I$4=0,$M$6=0,$I$7=0,$I$8=0),"-",$I$4) -> - | C24: =IF(OR($I$4=0,$M$6=0,$I$7=0,$I$8=0,B25=0,B25="-"),"-",B25) -> - | D24: =IF(OR($I$4=0,$M$6=0,$I$7=0,$I$8=0,C25=0,C25="-"),"-",C25) -> - | E24: =IF(OR($I$4=0,$M$6=0,$I$7=0,$I$8=0,D25=0,D25="-"),"-",D25) -> - | F24: =IF(OR($I$4=0,$M$6=0,$I$7=0,$I$8=0,E25=0,E25="-"),"-",E25) -> - | G24: =IF(OR($I$4=0,$M$6=0,$I$7=0,$I$8=0,F25=0,F25="-"),"-",F25) -> - | H24: =IF(OR($I$4=0,$M$6=0,$I$7=0,$I$8=0,G25=0,G25="-"),"-",G25) -> - | I24: =IF(OR($I$4=0,$M$6=0,$I$7=0,$I$8=0,H25=0,H25="-"),"-",H25) -> - | J24: =IF(OR($I$4=0,$M$6=0,$I$7=0,$I$8=0,I25=0,I25="-"),"-",I25) -> - | ... U24: =IF(OR($I$4=0,$M$6=0,$I$7=0,$I$8=0,T25=0,T25="-"),"-",T25) -> -
A25: Kintlévőség év végén | B25: =IF(OR($I$4=0,$M$6=0,$I$7=0,$I$8=0,B24="-",B28="-"),"-",B24-B28) -> - | C25: =IF(OR($I$4=0,$M$6=0,$I$7=0,$I$8=0,B25=0,B25="-",C24="-",C28="-"),"-",IF(C$22=$I$9,ROUND(C24-C28,0),C24-C28)) -> - | D25: =IF(OR($I$4=0,$M$6=0,$I$7=0,$I$8=0,C25=0,C25="-",D24="-",D28="-"),"-",IF(D$22=$I$9,ROUND(D24-D28,0),D24-D28)) -> - | E25: =IF(OR($I$4=0,$M$6=0,$I$7=0,$I$8=0,D25=0,D25="-",E24="-",E28="-"),"-",IF(E$22=$I$9,ROUND(E24-E28,0),E24-E28)) -> - | F25: =IF(OR($I$4=0,$M$6=0,$I$7=0,$I$8=0,E25=0,E25="-",F24="-",F28="-"),"-",IF(F$22=$I$9,ROUND(F24-F28,0),F24-F28)) -> - | G25: =IF(OR($I$4=0,$M$6=0,$I$7=0,$I$8=0,F25=0,F25="-",G24="-",G28="-"),"-",IF(G$22=$I$9,ROUND(G24-G28,0),G24-G28)) -> - | H25: =IF(OR($I$4=0,$M$6=0,$I$7=0,$I$8=0,G25=0,G25="-",H24="-",H28="-"),"-",IF(H$22=$I$9,ROUND(H24-H28,0),H24-H28)) -> - | I25: =IF(OR($I$4=0,$M$6=0,$I$7=0,$I$8=0,H25=0,H25="-",I24="-",I28="-"),"-",IF(I$22=$I$9,ROUND(I24-I28,0),I24-I28)) -> - | J25: =IF(OR($I$4=0,$M$6=0,$I$7=0,$I$8=0,I25=0,I25="-",J24="-",J28="-"),"-",IF(J$22=$I$9,ROUND(J24-J28,0),J24-J28)) -> - | ... U25: =IF(OR($I$4=0,$M$6=0,$I$7=0,$I$8=0,T25=0,T25="-",U24="-",U28="-"),"-",IF(U$22=$I$9,ROUND(U24-U28,0),U24-U28)) -> -
A26: Átlagos kintlévőség | B26: =IF(OR(B24="-",B25="-"),"-",(B25+B24)/2) -> - | C26: =IF(OR(C24="-",C25="-"),"-",(C25+C24)/2) -> - | D26: =IF(OR(D24="-",D25="-"),"-",(D25+D24)/2) -> - | E26: =IF(OR(E24="-",E25="-"),"-",(E25+E24)/2) -> - | F26: =IF(OR(F24="-",F25="-"),"-",(F25+F24)/2) -> - | G26: =IF(OR(G24="-",G25="-"),"-",(G25+G24)/2) -> - | H26: =IF(OR(H24="-",H25="-"),"-",(H25+H24)/2) -> - | I26: =IF(OR(I24="-",I25="-"),"-",(I25+I24)/2) -> - | ... U26: =IF(OR(U24="-",U25="-"),"-",(U25+U24)/2) -> -
A27: Fizetendő kamat | B27: =IF(B26="-","-",B26*$M$5) -> - | C27: =IF(C26="-","-",C26*$M$5) -> - | D27: =IF(D26="-","-",D26*$M$5) -> - | E27: =IF(E26="-","-",E26*$M$5) -> - | F27: =IF(F26="-","-",F26*$M$5) -> - | G27: =IF(G26="-","-",G26*$M$5) -> - | H27: =IF(H26="-","-",H26*$M$5) -> - | I27: =IF(I26="-","-",I26*$M$5) -> - | ... U27: =IF(U26="-","-",U26*$M$5) -> -
A28: Tőketörlesztés | B28: =IF(OR($I$4=0,$M$6=0,$I$7=0,$I$8=0),"-",IF(B22<$I$8,0,$I$4*1/($M$6-($I$8-$I$7)))) -> - | C28: =IF(OR($I$4=0,$M$6=0,$I$7=0,$I$8=0),"-",IF(C22<$I$8,0,IF(OR(B25=0,B25="-"),"-",$I$4*1/($M$6-($I$8-$I$7))))) -> - | D28: =IF(OR($I$4=0,$M$6=0,$I$7=0,$I$8=0),"-",IF(D22<$I$8,0,IF(OR(C25=0,C25="-"),"-",$I$4*1/($M$6-($I$8-$I$7))))) -> - | E28: =IF(OR($I$4=0,$M$6=0,$I$7=0,$I$8=0),"-",IF(E22<$I$8,0,IF(OR(D25=0,D25="-"),"-",$I$4*1/($M$6-($I$8-$I$7))))) -> - | F28: =IF(OR($I$4=0,$M$6=0,$I$7=0,$I$8=0),"-",IF(F22<$I$8,0,IF(OR(E25=0,E25="-"),"-",$I$4*1/($M$6-($I$8-$I$7))))) -> - | G28: =IF(OR($I$4=0,$M$6=0,$I$7=0,$I$8=0),"-",IF(G22<$I$8,0,IF(OR(F25=0,F25="-"),"-",$I$4*1/($M$6-($I$8-$I$7))))) -> - | H28: =IF(OR($I$4=0,$M$6=0,$I$7=0,$I$8=0),"-",IF(H22<$I$8,0,IF(OR(G25=0,G25="-"),"-",$I$4*1/($M$6-($I$8-$I$7))))) -> - | I28: =IF(OR($I$4=0,$M$6=0,$I$7=0,$I$8=0),"-",IF(I22<$I$8,0,IF(OR(H25=0,H25="-"),"-",$I$4*1/($M$6-($I$8-$I$7))))) -> - | J28: =IF(OR($I$4=0,$M$6=0,$I$7=0,$I$8=0),"-",IF(J22<$I$8,0,IF(OR(I25=0,I25="-"),"-",$I$4*1/($M$6-($I$8-$I$7))))) -> - | ... U28: =IF(OR($I$4=0,$M$6=0,$I$7=0,$I$8=0),"-",IF(U22<$I$8,0,IF(OR(T25=0,T25="-"),"-",$I$4*1/($M$6-($I$8-$I$7))))) -> -
A29: Éves adósságszolgálat | B29: =IF(OR(B27="-",B28="-"),"-",B27+B28) -> - | C29: =IF(OR(C27="-",C28="-"),"-",C27+C28) -> - | D29: =IF(OR(D27="-",D28="-"),"-",D27+D28) -> - | E29: =IF(OR(E27="-",E28="-"),"-",E27+E28) -> - | F29: =IF(OR(F27="-",F28="-"),"-",F27+F28) -> - | G29: =IF(OR(G27="-",G28="-"),"-",G27+G28) -> - | H29: =IF(OR(H27="-",H28="-"),"-",H27+H28) -> - | I29: =IF(OR(I27="-",I28="-"),"-",I27+I28) -> - | ... U29: =IF(OR(U27="-",U28="-"),"-",U27+U28) -> -
A30: Meglévő amortizálódó hitelek
A31: Kintlévőség év elején | B31: =IF(OR($I$11=0,$M$13=0,B25="-"),"-",$I$11) -> - | C31: =IF(OR($I$11=0,B32=0,B32="-",B25=0,B25="-"),"-",B32) -> - | D31: =IF(OR($I$11=0,C32=0,C32="-",C25=0,C25="-"),"-",C32) -> - | E31: =IF(OR($I$11=0,D32=0,D32="-",D25=0,D25="-"),"-",D32) -> - | F31: =IF(OR($I$11=0,E32=0,E32="-",E25=0,E25="-"),"-",E32) -> - | G31: =IF(OR($I$11=0,F32=0,F32="-",F25=0,F25="-"),"-",F32) -> - | H31: =IF(OR($I$11=0,G32=0,G32="-",G25=0,G25="-"),"-",G32) -> - | I31: =IF(OR($I$11=0,H32=0,H32="-",H25=0,H25="-"),"-",H32) -> - | J31: =IF(OR($I$11=0,I32=0,I32="-",I25=0,I25="-"),"-",I32) -> - | ... U31: =IF(OR($I$11=0,T32=0,T32="-",T25=0,T25="-"),"-",T32) -> -
A32: Kintlévőség év végén | B32: =IF(OR($I$11=0,$M$13=0,B25="-",B31="-",B35="-"),"-",B31-B35) -> - | C32: =IF(OR($I$11=0,$M$13=0,B32=0,B32="-",B25=0,B25="-",C31="-",C35="-"),"-",IF(C$22=$H$14,ROUND(C31-C35,0),C31-C35)) -> - | D32: =IF(OR($I$11=0,$M$13=0,C32=0,C32="-",C25=0,C25="-",D31="-",D35="-"),"-",IF(D$22=$H$14,ROUND(D31-D35,0),D31-D35)) -> - | E32: =IF(OR($I$11=0,$M$13=0,D32=0,D32="-",D25=0,D25="-",E31="-",E35="-"),"-",IF(E$22=$H$14,ROUND(E31-E35,0),E31-E35)) -> - | F32: =IF(OR($I$11=0,$M$13=0,E32=0,E32="-",E25=0,E25="-",F31="-",F35="-"),"-",IF(F$22=$H$14,ROUND(F31-F35,0),F31-F35)) -> - | G32: =IF(OR($I$11=0,$M$13=0,F32=0,F32="-",F25=0,F25="-",G31="-",G35="-"),"-",IF(G$22=$H$14,ROUND(G31-G35,0),G31-G35)) -> - | H32: =IF(OR($I$11=0,$M$13=0,G32=0,G32="-",G25=0,G25="-",H31="-",H35="-"),"-",IF(H$22=$H$14,ROUND(H31-H35,0),H31-H35)) -> - | I32: =IF(OR($I$11=0,$M$13=0,H32=0,H32="-",H25=0,H25="-",I31="-",I35="-"),"-",IF(I$22=$H$14,ROUND(I31-I35,0),I31-I35)) -> - | J32: =IF(OR($I$11=0,$M$13=0,I32=0,I32="-",I25=0,I25="-",J31="-",J35="-"),"-",IF(J$22=$H$14,ROUND(J31-J35,0),J31-J35)) -> - | ... U32: =IF(OR($I$11=0,$M$13=0,T32=0,T32="-",T25=0,T25="-",U31="-",U35="-"),"-",IF(U$22=$H$14,ROUND(U31-U35,0),U31-U35)) -> -
A33: Átlagos kintlévőség | B33: =IF(OR(B25="-",B31="-",B32="-"),"-",(B32+B31)/2) -> - | C33: =IF(OR(B25=0,B25="-",C31="-",C32="-"),"-",(C32+C31)/2) -> - | D33: =IF(OR(C25=0,C25="-",D31="-",D32="-"),"-",(D32+D31)/2) -> - | E33: =IF(OR(D25=0,D25="-",E31="-",E32="-"),"-",(E32+E31)/2) -> - | F33: =IF(OR(E25=0,E25="-",F31="-",F32="-"),"-",(F32+F31)/2) -> - | G33: =IF(OR(F25=0,F25="-",G31="-",G32="-"),"-",(G32+G31)/2) -> - | H33: =IF(OR(G25=0,G25="-",H31="-",H32="-"),"-",(H32+H31)/2) -> - | I33: =IF(OR(H25=0,H25="-",I31="-",I32="-"),"-",(I32+I31)/2) -> - | J33: =IF(OR(I25=0,I25="-",J31="-",J32="-"),"-",(J32+J31)/2) -> - | ... U33: =IF(OR(T25=0,T25="-",U31="-",U32="-"),"-",(U32+U31)/2) -> -
A34: Fizetendő kamat | B34: =IF(OR(B25="-",B33="-"),"-",B33*$M$12) -> - | C34: =IF(OR(B25=0,B25="-",C33="-"),"-",C33*$M$12) -> - | D34: =IF(OR(C25=0,C25="-",D33="-"),"-",D33*$M$12) -> - | E34: =IF(OR(D25=0,D25="-",E33="-"),"-",E33*$M$12) -> - | F34: =IF(OR(E25=0,E25="-",F33="-"),"-",F33*$M$12) -> - | G34: =IF(OR(F25=0,F25="-",G33="-"),"-",G33*$M$12) -> - | H34: =IF(OR(G25=0,G25="-",H33="-"),"-",H33*$M$12) -> - | I34: =IF(OR(H25=0,H25="-",I33="-"),"-",I33*$M$12) -> - | J34: =IF(OR(I25=0,I25="-",J33="-"),"-",J33*$M$12) -> - | ... U34: =IF(OR(T25=0,T25="-",U33="-"),"-",U33*$M$12) -> -
A35: Tőketörlesztés | B35: =IF(OR($M$13=0,$I$11=0,B25="-"),"-",$I$11*1/$M$13) -> - | C35: =IF(OR($I$11=0,$M$13=0,B32=0,B32="-",B25=0,B25="-"),"-",$I$11*1/$M$13) -> - | D35: =IF(OR($I$11=0,$M$13=0,C32=0,C32="-",C25=0,C25="-"),"-",$I$11*1/$M$13) -> - | E35: =IF(OR($I$11=0,$M$13=0,D32=0,D32="-",D25=0,D25="-"),"-",$I$11*1/$M$13) -> - | F35: =IF(OR($I$11=0,$M$13=0,E32=0,E32="-",E25=0,E25="-"),"-",$I$11*1/$M$13) -> - | G35: =IF(OR($I$11=0,$M$13=0,F32=0,F32="-",F25=0,F25="-"),"-",$I$11*1/$M$13) -> - | H35: =IF(OR($I$11=0,$M$13=0,G32=0,G32="-",G25=0,G25="-"),"-",$I$11*1/$M$13) -> - | I35: =IF(OR($I$11=0,$M$13=0,H32=0,H32="-",H25=0,H25="-"),"-",$I$11*1/$M$13) -> - | J35: =IF(OR($I$11=0,$M$13=0,I32=0,I32="-",I25=0,I25="-"),"-",$I$11*1/$M$13) -> - | ... U35: =IF(OR($I$11=0,$M$13=0,T32=0,T32="-",T25=0,T25="-"),"-",$I$11*1/$M$13) -> -
A36: Éves adósságszolgálat | B36: =IF(OR(B25="-",B34="-",B35="-"),"-",B34+B35) -> - | C36: =IF(OR(B25=0,B25="-",C34="-",C35="-"),"-",C34+C35) -> - | D36: =IF(OR(C25=0,C25="-",D34="-",D35="-"),"-",D34+D35) -> - | E36: =IF(OR(D25=0,D25="-",E34="-",E35="-"),"-",E34+E35) -> - | F36: =IF(OR(E25=0,E25="-",F34="-",F35="-"),"-",F34+F35) -> - | G36: =IF(OR(F25=0,F25="-",G34="-",G35="-"),"-",G34+G35) -> - | H36: =IF(OR(G25=0,G25="-",H34="-",H35="-"),"-",H34+H35) -> - | I36: =IF(OR(H25=0,H25="-",I34="-",I35="-"),"-",I34+I35) -> - | J36: =IF(OR(I25=0,I25="-",J34="-",J35="-"),"-",J34+J35) -> - | ... U36: =IF(OR(T25=0,T25="-",U34="-",U35="-"),"-",U34+U35) -> -
A37: Összesített éves adósságszolgálat | B37: =IF(AND(B29="-",B36="-"),"-",IF(OR(B29="-",B36="-"),IF(B29="-",B36,B29),B29+B36)) -> - | C37: =IF(AND(C29="-",C36="-"),"-",IF(OR(C29="-",C36="-"),IF(C29="-",C36,C29),C29+C36)) -> - | D37: =IF(AND(D29="-",D36="-"),"-",IF(OR(D29="-",D36="-"),IF(D29="-",D36,D29),D29+D36)) -> - | E37: =IF(AND(E29="-",E36="-"),"-",IF(OR(E29="-",E36="-"),IF(E29="-",E36,E29),E29+E36)) -> - | F37: =IF(AND(F29="-",F36="-"),"-",IF(OR(F29="-",F36="-"),IF(F29="-",F36,F29),F29+F36)) -> - | G37: =IF(AND(G29="-",G36="-"),"-",IF(OR(G29="-",G36="-"),IF(G29="-",G36,G29),G29+G36)) -> - | H37: =IF(AND(H29="-",H36="-"),"-",IF(OR(H29="-",H36="-"),IF(H29="-",H36,H29),H29+H36)) -> - | I37: =IF(AND(I29="-",I36="-"),"-",IF(OR(I29="-",I36="-"),IF(I29="-",I36,I29),I29+I36)) -> - | ... U37: =IF(AND(U29="-",U36="-"),"-",IF(OR(U29="-",U36="-"),IF(U29="-",U36,U29),U29+U36)) -> -
A39: Év (adatok eFt-ban) | B39: =$I$7 -> 0 | C39: =B39+1 -> 1 | D39: =C39+1 -> 2 | E39: =D39+1 -> 3 | F39: =E39+1 -> 4 | G39: =F39+1 -> 5 | H39: =G39+1 -> 6 | I39: =H39+1 -> 7 | J39: =I39+1 -> 8 | ... U39: =T39+1 -> 19
A40: Bevételek tervezett éves növekedése | B40: - | C40: =+'Egyszerűsített Cash-flow'!C41 -> 0 | D40: =+'Egyszerűsített Cash-flow'!D41 -> 0 | E40: =+'Egyszerűsített Cash-flow'!E41 -> 0 | F40: =+'Egyszerűsített Cash-flow'!F41 -> 0 | G40: =+'Egyszerűsített Cash-flow'!G41 -> 0 | H40: =+'Egyszerűsített Cash-flow'!H41 -> 0 | I40: =+'Egyszerűsített Cash-flow'!I41 -> 0 | J40: =+'Egyszerűsített Cash-flow'!J41 -> 0 | ... U40: =+'Egyszerűsített Cash-flow'!U41 -> 0.03
A41: Bevételek összesen | B41: =IF(OR($I$16=0,B25="-"),"-",$I$16) -> - | C41: =IF(OR($I$16=0,B25=0,B25="-"),"-",B41*(1+C40)) -> - | D41: =IF(OR($I$16=0,C25=0,C25="-"),"-",C41*(1+D40)) -> - | E41: =IF(OR($I$16=0,D25=0,D25="-"),"-",D41*(1+E40)) -> - | F41: =IF(OR($I$16=0,E25=0,E25="-"),"-",E41*(1+F40)) -> - | G41: =IF(OR($I$16=0,F25=0,F25="-"),"-",F41*(1+G40)) -> - | H41: =IF(OR($I$16=0,G25=0,G25="-"),"-",G41*(1+H40)) -> - | I41: =IF(OR($I$16=0,H25=0,H25="-"),"-",H41*(1+I40)) -> - | J41: =IF(OR($I$16=0,I25=0,I25="-"),"-",I41*(1+J40)) -> - | ... U41: =IF(OR($I$16=0,T25=0,T25="-"),"-",T41*(1+U40)) -> -
A42: Működési költségek tervezett éves növekedése | B42: - | C42: =+'Egyszerűsített Cash-flow'!C43 -> 0 | D42: =+'Egyszerűsített Cash-flow'!D43 -> 0 | E42: =+'Egyszerűsített Cash-flow'!E43 -> 0 | F42: =+'Egyszerűsített Cash-flow'!F43 -> 0 | G42: =+'Egyszerűsített Cash-flow'!G43 -> 0 | H42: =+'Egyszerűsített Cash-flow'!H43 -> 0 | I42: =+'Egyszerűsített Cash-flow'!I43 -> 0 | J42: =+'Egyszerűsített Cash-flow'!J43 -> 0 | ... U42: =+'Egyszerűsített Cash-flow'!U43 -> 0.03
A43: Működési költség | B43: =IF(OR($I$17=0,B25="-"),"-",$I$17) -> - | C43: =IF(OR($I$17=0,B25=0,B25="-"),"-",B43*(1+C42)) -> - | D43: =IF(OR($I$17=0,C25=0,C25="-"),"-",C43*(1+D42)) -> - | E43: =IF(OR($I$17=0,D25=0,D25="-"),"-",D43*(1+E42)) -> - | F43: =IF(OR($I$17=0,E25=0,E25="-"),"-",E43*(1+F42)) -> - | G43: =IF(OR($I$17=0,F25=0,F25="-"),"-",F43*(1+G42)) -> - | H43: =IF(OR($I$17=0,G25=0,G25="-"),"-",G43*(1+H42)) -> - | I43: =IF(OR($I$17=0,H25=0,H25="-"),"-",H43*(1+I42)) -> - | J43: =IF(OR($I$17=0,I25=0,I25="-"),"-",I43*(1+J42)) -> - | ... U43: =IF(OR($I$17=0,T25=0,T25="-"),"-",T43*(1+U42)) -> -
A44: EBITDA | B44: =IF(OR(B25="-",B41="-",B43="-"),"-",B41-B43) -> - | C44: =IF(OR(B25=0,B25="-",C41="-",C43="-"),"-",C41-C43) -> - | D44: =IF(OR(C25=0,C25="-",D41="-",D43="-"),"-",D41-D43) -> - | E44: =IF(OR(D25=0,D25="-",E41="-",E43="-"),"-",E41-E43) -> - | F44: =IF(OR(E25=0,E25="-",F41="-",F43="-"),"-",F41-F43) -> - | G44: =IF(OR(F25=0,F25="-",G41="-",G43="-"),"-",G41-G43) -> - | H44: =IF(OR(G25=0,G25="-",H41="-",H43="-"),"-",H41-H43) -> - | I44: =IF(OR(H25=0,H25="-",I41="-",I43="-"),"-",I41-I43) -> - | J44: =IF(OR(I25=0,I25="-",J41="-",J43="-"),"-",J41-J43) -> - | ... U44: =IF(OR(T25=0,T25="-",U41="-",U43="-"),"-",U41-U43) -> -
A45: Értékcsökkenés | B45: =IF(B25="-","-",$I$19) -> - | C45: =IF(OR(B25=0,B25="-"),"-",$I$19) -> - | D45: =IF(OR(C25=0,C25="-"),"-",$I$19) -> - | E45: =IF(OR(D25=0,D25="-"),"-",$I$19) -> - | F45: =IF(OR(E25=0,E25="-"),"-",$I$19) -> - | G45: =IF(OR(F25=0,F25="-"),"-",$I$19) -> - | H45: =IF(OR(G25=0,G25="-"),"-",$I$19) -> - | I45: =IF(OR(H25=0,H25="-"),"-",$I$19) -> - | J45: =IF(OR(I25=0,I25="-"),"-",$I$19) -> - | ... U45: =IF(OR(T25=0,T25="-"),"-",$I$19) -> -
A46: Fizetendő kamat | B46: =IF(AND(B27="-",B34="-"),"-",IF(OR(B27="-",B34="-"),IF(B27="-",B34,B27),B27+B34)) -> - | C46: =IF(AND(C27="-",C34="-"),"-",IF(OR(C27="-",C34="-"),IF(C27="-",C34,C27),C27+C34)) -> - | D46: =IF(AND(D27="-",D34="-"),"-",IF(OR(D27="-",D34="-"),IF(D27="-",D34,D27),D27+D34)) -> - | E46: =IF(AND(E27="-",E34="-"),"-",IF(OR(E27="-",E34="-"),IF(E27="-",E34,E27),E27+E34)) -> - | F46: =IF(AND(F27="-",F34="-"),"-",IF(OR(F27="-",F34="-"),IF(F27="-",F34,F27),F27+F34)) -> - | G46: =IF(AND(G27="-",G34="-"),"-",IF(OR(G27="-",G34="-"),IF(G27="-",G34,G27),G27+G34)) -> - | H46: =IF(AND(H27="-",H34="-"),"-",IF(OR(H27="-",H34="-"),IF(H27="-",H34,H27),H27+H34)) -> - | I46: =IF(AND(I27="-",I34="-"),"-",IF(OR(I27="-",I34="-"),IF(I27="-",I34,I27),I27+I34)) -> - | ... U46: =IF(AND(U27="-",U34="-"),"-",IF(OR(U27="-",U34="-"),IF(U27="-",U34,U27),U27+U34)) -> -
A47: Adózás előtti eredmény | B47: =IF(OR(B25="-",B41="-",B43="-",B45="-",B46="-"),"-",B41-B43-B45-B46) -> - | C47: =IF(OR(B25=0,B25="-",C41="-",C43="-",C45="-",C46="-"),"-",C41-C43-C45-C46) -> - | D47: =IF(OR(C25=0,C25="-",D41="-",D43="-",D45="-",D46="-"),"-",D41-D43-D45-D46) -> - | E47: =IF(OR(D25=0,D25="-",E41="-",E43="-",E45="-",E46="-"),"-",E41-E43-E45-E46) -> - | F47: =IF(OR(E25=0,E25="-",F41="-",F43="-",F45="-",F46="-"),"-",F41-F43-F45-F46) -> - | G47: =IF(OR(F25=0,F25="-",G41="-",G43="-",G45="-",G46="-"),"-",G41-G43-G45-G46) -> - | H47: =IF(OR(G25=0,G25="-",H41="-",H43="-",H45="-",H46="-"),"-",H41-H43-H45-H46) -> - | I47: =IF(OR(H25=0,H25="-",I41="-",I43="-",I45="-",I46="-"),"-",I41-I43-I45-I46) -> - | J47: =IF(OR(I25=0,I25="-",J41="-",J43="-",J45="-",J46="-"),"-",J41-J43-J45-J46) -> - | ... U47: =IF(OR(T25=0,T25="-",U41="-",U43="-",U45="-",U46="-"),"-",U41-U43-U45-U46) -> -
A48: Adó | B48: =IF(OR(B25="-",B47="-"),"-",B47*$M$20) -> - | C48: =IF(OR(B25=0,B25="-",C47="-"),"-",C47*$M$20) -> - | D48: =IF(OR(C25=0,C25="-",D47="-"),"-",D47*$M$20) -> - | E48: =IF(OR(D25=0,D25="-",E47="-"),"-",E47*$M$20) -> - | F48: =IF(OR(E25=0,E25="-",F47="-"),"-",F47*$M$20) -> - | G48: =IF(OR(F25=0,F25="-",G47="-"),"-",G47*$M$20) -> - | H48: =IF(OR(G25=0,G25="-",H47="-"),"-",H47*$M$20) -> - | I48: =IF(OR(H25=0,H25="-",I47="-"),"-",I47*$M$20) -> - | J48: =IF(OR(I25=0,I25="-",J47="-"),"-",J47*$M$20) -> - | ... U48: =IF(OR(T25=0,T25="-",U47="-"),"-",U47*$M$20) -> -
A49: Adózás utáni eredmény | B49: =IF(OR(B25="-",B47="-",B48="-"),"-",B47-B48) -> - | C49: =IF(OR(B25=0,B25="-",C47="-",C48="-"),"-",C47-C48) -> - | D49: =IF(OR(C25=0,C25="-",D47="-",D48="-"),"-",D47-D48) -> - | E49: =IF(OR(D25=0,D25="-",E47="-",E48="-"),"-",E47-E48) -> - | F49: =IF(OR(E25=0,E25="-",F47="-",F48="-"),"-",F47-F48) -> - | G49: =IF(OR(F25=0,F25="-",G47="-",G48="-"),"-",G47-G48) -> - | H49: =IF(OR(G25=0,G25="-",H47="-",H48="-"),"-",H47-H48) -> - | I49: =IF(OR(H25=0,H25="-",I47="-",I48="-"),"-",I47-I48) -> - | J49: =IF(OR(I25=0,I25="-",J47="-",J48="-"),"-",J47-J48) -> - | ... U49: =IF(OR(T25=0,T25="-",U47="-",U48="-"),"-",U47-U48) -> -
A50: Törlesztésre rendelkezésre álló CF | B50: =IF(OR(B25="-",B45="-",B46="-",B49="-"),"-",B49+B45+B46) -> - | C50: =IF(OR(B25=0,B25="-",C45="-",C46="-",C49="-"),"-",C49+C45+C46) -> - | D50: =IF(OR(C25=0,C25="-",D45="-",D46="-",D49="-"),"-",D49+D45+D46) -> - | E50: =IF(OR(D25=0,D25="-",E45="-",E46="-",E49="-"),"-",E49+E45+E46) -> - | F50: =IF(OR(E25=0,E25="-",F45="-",F46="-",F49="-"),"-",F49+F45+F46) -> - | G50: =IF(OR(F25=0,F25="-",G45="-",G46="-",G49="-"),"-",G49+G45+G46) -> - | H50: =IF(OR(G25=0,G25="-",H45="-",H46="-",H49="-"),"-",H49+H45+H46) -> - | I50: =IF(OR(H25=0,H25="-",I45="-",I46="-",I49="-"),"-",I49+I45+I46) -> - | J50: =IF(OR(I25=0,I25="-",J45="-",J46="-",J49="-"),"-",J49+J45+J46) -> - | ... U50: =IF(OR(T25=0,T25="-",U45="-",U46="-",U49="-"),"-",U49+U45+U46) -> -
A51: Összesített éves adósságszolgálat | B51: =B37 -> - | C51: =C37 -> - | D51: =D37 -> - | E51: =E37 -> - | F51: =F37 -> - | G51: =G37 -> - | H51: =H37 -> - | I51: =I37 -> - | ... U51: =U37 -> -
A52: Szabad CF törlesztés után | B52: =IF(OR(B25="-",B50="-",B51="-"),"-",B50-B51) -> - | C52: =IF(OR(B25=0,B25="-",C50="-",C51="-"),"-",C50-C51) -> - | D52: =IF(OR(C25=0,C25="-",D50="-",D51="-"),"-",D50-D51) -> - | E52: =IF(OR(D25=0,D25="-",E50="-",E51="-"),"-",E50-E51) -> - | F52: =IF(OR(E25=0,E25="-",F50="-",F51="-"),"-",F50-F51) -> - | G52: =IF(OR(F25=0,F25="-",G50="-",G51="-"),"-",G50-G51) -> - | H52: =IF(OR(G25=0,G25="-",H50="-",H51="-"),"-",H50-H51) -> - | I52: =IF(OR(H25=0,H25="-",I50="-",I51="-"),"-",I50-I51) -> - | J52: =IF(OR(I25=0,I25="-",J50="-",J51="-"),"-",J50-J51) -> - | ... U52: =IF(OR(T25=0,T25="-",U50="-",U51="-"),"-",U50-U51) -> -
A53: Kumulált szabad CF | B53: =IF(OR($I$18="-",B25="-",B52="-"),"-",$I$18+B52) -> - | C53: =IF(OR(B25=0,B25="-",B53="-",C52="-"),"-",B53+C52) -> - | D53: =IF(OR(C25=0,C25="-",C53="-",D52="-"),"-",C53+D52) -> - | E53: =IF(OR(D25=0,D25="-",D53="-",E52="-"),"-",D53+E52) -> - | F53: =IF(OR(E25=0,E25="-",E53="-",F52="-"),"-",E53+F52) -> - | G53: =IF(OR(F25=0,F25="-",F53="-",G52="-"),"-",F53+G52) -> - | H53: =IF(OR(G25=0,G25="-",G53="-",H52="-"),"-",G53+H52) -> - | I53: =IF(OR(H25=0,H25="-",H53="-",I52="-"),"-",H53+I52) -> - | J53: =IF(OR(I25=0,I25="-",I53="-",J52="-"),"-",I53+J52) -> - | ... U53: =IF(OR(T25=0,T25="-",T53="-",U52="-"),"-",T53+U52) -> -
A56: DSCR | B56: =IFERROR(IF(OR(B25="-",B50="-",B51="-"),"-",B50/B51),"") -> - | C56: =IF(OR(B25=0,B25="-",C50="-",C51="-"),"-",C50/C51) -> - | D56: =IF(OR(C25=0,C25="-",D50="-",D51="-"),"-",D50/D51) -> - | E56: =IF(OR(D25=0,D25="-",E50="-",E51="-"),"-",E50/E51) -> - | F56: =IF(OR(E25=0,E25="-",F50="-",F51="-"),"-",F50/F51) -> - | G56: =IF(OR(F25=0,F25="-",G50="-",G51="-"),"-",G50/G51) -> - | H56: =IF(OR(G25=0,G25="-",H50="-",H51="-"),"-",H50/H51) -> - | I56: =IF(OR(H25=0,H25="-",I50="-",I51="-"),"-",I50/I51) -> - | J56: =IF(OR(I25=0,I25="-",J50="-",J51="-"),"-",J50/J51) -> - | ... U56: =IF(OR(T25=0,T25="-",U50="-",U51="-"),"-",U50/U51) -> -
A57: Kumulált DSCR | B57: =IFERROR(IF(OR($I$18="-",B25="-",B50="-",B51="-"),"-",($I$18+B50)/B51),"") -> - | C57: =IF(OR(B25=0,B25="-",C50="-",C51="-",B53="-"),"-",(C50+B53)/C51) -> - | D57: =IF(OR(C25=0,C25="-",D50="-",D51="-",C53="-"),"-",(D50+C53)/D51) -> - | E57: =IF(OR(D25=0,D25="-",E50="-",E51="-",D53="-"),"-",(E50+D53)/E51) -> - | F57: =IF(OR(E25=0,E25="-",F50="-",F51="-",E53="-"),"-",(F50+E53)/F51) -> - | G57: =IF(OR(F25=0,F25="-",G50="-",G51="-",F53="-"),"-",(G50+F53)/G51) -> - | H57: =IF(OR(G25=0,G25="-",H50="-",H51="-",G53="-"),"-",(H50+G53)/H51) -> - | I57: =IF(OR(H25=0,H25="-",I50="-",I51="-",H53="-"),"-",(I50+H53)/I51) -> - | J57: =IF(OR(I25=0,I25="-",J50="-",J51="-",I53="-"),"-",(J50+I53)/J51) -> - | ... U57: =IF(OR(T25=0,T25="-",U50="-",U51="-",T53="-"),"-",(U50+T53)/U51) -> -
